OziExplorer Map Data File Version 2.2
N-35-131 Îçàðè÷è
C:\strorry\Maps\Genshtab_1k\n-35-131.ozfx3
1 ,Map Code,
Pulkovo 1942 (1),WGS 84, 0.0000, 0.0000,WGS 84
Reserved 1
Reserved 2
Magnetic Variation,,,E
Map Projection,Transverse Mercator,PolyCal,No,AutoCalOnly,No,BSBUseWPX,No
Point01,xy, 166, 255,in, deg, 52, 40.0000,N, 29, 0.0000,E, grid, , , ,N
Point02,xy, 4199, 255,in, deg, 52, 40.0000,N, 29, 30.0000,E, grid, , , ,N
Point03,xy, 4214, 4629,in, deg, 52, 20.0000,N, 29, 30.0000,E, grid, , , ,N
Point04,xy, 151, 4626,in, deg, 52, 20.0000,N, 29, 0.0000,E, grid, , , ,N
Point05,xy, 2182, 2447,in, deg, 52, 30.0000,N, 29, 15.0000,E, grid, , , ,N
Point06,xy, 2182, 262,in, deg, 52, 40.0000,N, 29, 15.0000,E, grid, , , ,N
Point07,xy, 158, 2440,in, deg, 52, 30.0000,N, 29, 0.0000,E, grid, , , ,N
Point08,xy, 4208, 2442,in, deg, 52, 30.0000,N, 29, 30.0000,E, grid, , , ,N
Point09,xy, 2182, 4629,in, deg, 52, 20.0000,N, 29, 15.0000,E, grid, , , ,N
Point10,xy, , ,in, deg, , ,N, , ,W, grid, , , ,N
Point11,xy, , ,in, deg, , ,N, , ,W, grid, , , ,N
Point12,xy, , ,in, deg, , ,N, , ,W, grid, , , ,N
Point13,xy, , ,in, deg, , ,N, , ,W, grid, , , ,N
Point14,xy, , ,in, deg, , ,N, , ,W, grid, , , ,N
Point15,xy, , ,in, deg, , ,N, , ,W, grid, , , ,N
Point16,xy, , ,in, deg, , ,N, , ,W, grid, , , ,N
Point17,xy, , ,in, deg, , ,N, , ,W, grid, , , ,N
Point18,xy, , ,in, deg, , ,N, , ,W, grid, , , ,N
Point19,xy, , ,in, deg, , ,N, , ,W, grid, , , ,N
Point20,xy, , ,in, deg, , ,N, , ,W, grid, , , ,N
Point21,xy, , ,in, deg, , ,N, , ,W, grid, , , ,N
Point22,xy, , ,in, deg, , ,N, , ,W, grid, , , ,N
Point23,xy, , ,in, deg, , ,N, , ,W, grid, , , ,N
Point24,xy, , ,in, deg, , ,N, , ,W, grid, , , ,N
Point25,xy, , ,in, deg, , ,N, , ,W, grid, , , ,N
Point26,xy, , ,in, deg, , ,N, , ,W, grid, , , ,N
Point27,xy, , ,in, deg, , ,N, , ,W, grid, , , ,N
Point28,xy, , ,in, deg, , ,N, , ,W, grid, , , ,N
Point29,xy, , ,in, deg, , ,N, , ,W, grid, , , ,N
Point30,xy, , ,in, deg, , ,N, , ,W, grid, , , ,N
Projection Setup, 0.000000000, 27.000000000, 1.000000000, 5500000.00, 0.00,,,,,
Map Feature = MF ; Map Comment = MC These follow if they exist
Track File = TF These follow if they exist
Moving Map Parameters = MM? These follow if they exist
MM0,Yes
MMPNUM,4
MMPXY,1,166,255
MMPXY,2,4199,255
MMPXY,3,4213,4630
MMPXY,4,151,4626
MMPLL,1,29.000028,52.666712
MMPLL,2,29.499987,52.666817
MMPLL,3,29.499823,52.333175
MMPLL,4,29.000068,52.333331
MM1B,8.381717
MOP,Map Open Position,0,0
IWH,Map Image Width/Height,4364,5075
