OziExplorer Map Data File Version 2.2
N-35-128 Долгое
C:\strorry\Maps\Genshtab_1k\n-35-128.ozfx3
1 ,Map Code,
Pulkovo 1942 (1),WGS 84, 0.0000, 0.0000,WGS 84
Reserved 1
Reserved 2
Magnetic Variation,,,E
Map Projection,Transverse Mercator,PolyCal,No,AutoCalOnly,No,BSBUseWPX,No
Point01,xy, 145, 257,in, deg, 52, 40.0000,N, 27, 30.0000,E, grid, , , ,N
Point02,xy, 4174, 259,in, deg, 52, 40.0000,N, 28, 0.0000,E, grid, , , ,N
Point03,xy, 4184, 4644,in, deg, 52, 20.0000,N, 28, 0.0000,E, grid, , , ,N
Point04,xy, 123, 4637,in, deg, 52, 20.0000,N, 27, 30.0000,E, grid, , , ,N
Point05,xy, 2155, 2451,in, deg, 52, 30.0000,N, 27, 45.0000,E, grid, , , ,N
Point06,xy, 2161, 263,in, deg, 52, 40.0000,N, 27, 45.0000,E, grid, , , ,N
Point07,xy, 132, 2445,in, deg, 52, 30.0000,N, 27, 30.0000,E, grid, , , ,N
Point08,xy, 4181, 2451,in, deg, 52, 30.0000,N, 28, 0.0000,E, grid, , , ,N
Point09,xy, 2152, 4641,in, deg, 52, 20.0000,N, 27, 45.0000,E, grid, , , ,N
Point10,xy, , ,in, deg, , ,N, , ,W, grid, , , ,N
Point11,xy, , ,in, deg, , ,N, , ,W, grid, , , ,N
Point12,xy, , ,in, deg, , ,N, , ,W, grid, , , ,N
Point13,xy, , ,in, deg, , ,N, , ,W, grid, , , ,N
Point14,xy, , ,in, deg, , ,N, , ,W, grid, , , ,N
Point15,xy, , ,in, deg, , ,N, , ,W, grid, , , ,N
Point16,xy, , ,in, deg, , ,N, , ,W, grid, , , ,N
Point17,xy, , ,in, deg, , ,N, , ,W, grid, , , ,N
Point18,xy, , ,in, deg, , ,N, , ,W, grid, , , ,N
Point19,xy, , ,in, deg, , ,N, , ,W, grid, , , ,N
Point20,xy, , ,in, deg, , ,N, , ,W, grid, , , ,N
Point21,xy, , ,in, deg, , ,N, , ,W, grid, , , ,N
Point22,xy, , ,in, deg, , ,N, , ,W, grid, , , ,N
Point23,xy, , ,in, deg, , ,N, , ,W, grid, , , ,N
Point24,xy, , ,in, deg, , ,N, , ,W, grid, , , ,N
Point25,xy, , ,in, deg, , ,N, , ,W, grid, , , ,N
Point26,xy, , ,in, deg, , ,N, , ,W, grid, , , ,N
Point27,xy, , ,in, deg, , ,N, , ,W, grid, , , ,N
Point28,xy, , ,in, deg, , ,N, , ,W, grid, , , ,N
Point29,xy, , ,in, deg, , ,N, , ,W, grid, , , ,N
Point30,xy, , ,in, deg, , ,N, , ,W, grid, , , ,N
Projection Setup, 0.000000000, 27.000000000, 1.000000000, 5500000.00, 0.00,,,,,
Map Feature = MF ; Map Comment = MC These follow if they exist
Track File = TF These follow if they exist
Moving Map Parameters = MM? These follow if they exist
MM0,Yes
MMPNUM,4
MMPXY,1,144,257
MMPXY,2,4174,259
MMPXY,3,4184,4644
MMPXY,4,123,4636
MMPLL,1,27.499961,52.666565
MMPLL,2,27.999833,52.666786
MMPLL,3,28.000043,52.333156
MMPLL,4,27.500121,52.333375
MM1B,8.388015
MOP,Map Open Position,0,0
IWH,Map Image Width/Height,4309,5080
