OziExplorer Map Data File Version 2.2
N-35-126 Дятловичи
C:\strorry\Maps\Genshtab_1k\n-35-126.ozfx3
1 ,Map Code,
Pulkovo 1942 (1),WGS 84, 0.0000, 0.0000,WGS 84
Reserved 1
Reserved 2
Magnetic Variation,,,E
Map Projection,Transverse Mercator,PolyCal,No,AutoCalOnly,No,BSBUseWPX,No
Point01,xy, 136, 260,in, deg, 52, 40.0000,N, 26, 30.0000,E, grid, , , ,N
Point02,xy, 4169, 260,in, deg, 52, 40.0000,N, 27, 0.0000,E, grid, , , ,N
Point03,xy, 4181, 4637,in, deg, 52, 20.0000,N, 27, 0.0000,E, grid, , , ,N
Point04,xy, 124, 4640,in, deg, 52, 20.0000,N, 26, 30.0000,E, grid, , , ,N
Point05,xy, 2152, 2455,in, deg, 52, 30.0000,N, 26, 45.0000,E, grid, , , ,N
Point06,xy, 2154, 267,in, deg, 52, 40.0000,N, 26, 45.0000,E, grid, , , ,N
Point07,xy, 128, 2450,in, deg, 52, 30.0000,N, 26, 30.0000,E, grid, , , ,N
Point08,xy, 4177, 2449,in, deg, 52, 30.0000,N, 27, 0.0000,E, grid, , , ,N
Point09,xy, 2153, 4642,in, deg, 52, 20.0000,N, 26, 45.0000,E, grid, , , ,N
Point10,xy, , ,in, deg, , ,N, , ,W, grid, , , ,N
Point11,xy, , ,in, deg, , ,N, , ,W, grid, , , ,N
Point12,xy, , ,in, deg, , ,N, , ,W, grid, , , ,N
Point13,xy, , ,in, deg, , ,N, , ,W, grid, , , ,N
Point14,xy, , ,in, deg, , ,N, , ,W, grid, , , ,N
Point15,xy, , ,in, deg, , ,N, , ,W, grid, , , ,N
Point16,xy, , ,in, deg, , ,N, , ,W, grid, , , ,N
Point17,xy, , ,in, deg, , ,N, , ,W, grid, , , ,N
Point18,xy, , ,in, deg, , ,N, , ,W, grid, , , ,N
Point19,xy, , ,in, deg, , ,N, , ,W, grid, , , ,N
Point20,xy, , ,in, deg, , ,N, , ,W, grid, , , ,N
Point21,xy, , ,in, deg, , ,N, , ,W, grid, , , ,N
Point22,xy, , ,in, deg, , ,N, , ,W, grid, , , ,N
Point23,xy, , ,in, deg, , ,N, , ,W, grid, , , ,N
Point24,xy, , ,in, deg, , ,N, , ,W, grid, , , ,N
Point25,xy, , ,in, deg, , ,N, , ,W, grid, , , ,N
Point26,xy, , ,in, deg, , ,N, , ,W, grid, , , ,N
Point27,xy, , ,in, deg, , ,N, , ,W, grid, , , ,N
Point28,xy, , ,in, deg, , ,N, , ,W, grid, , , ,N
Point29,xy, , ,in, deg, , ,N, , ,W, grid, , , ,N
Point30,xy, , ,in, deg, , ,N, , ,W, grid, , , ,N
Projection Setup, 0.000000000, 27.000000000, 1.000000000, 5500000.00, 0.00,,,,,
Map Feature = MF ; Map Comment = MC These follow if they exist
Track File = TF These follow if they exist
Moving Map Parameters = MM? These follow if they exist
MM0,Yes
MMPNUM,4
MMPXY,1,136,260
MMPXY,2,4170,259
MMPXY,3,4181,4637
MMPXY,4,124,4640
MMPLL,1,26.499835,52.666813
MMPLL,2,27.000206,52.666790
MMPLL,3,26.999716,52.333404
MMPLL,4,26.500285,52.333280
MM1B,8.388316
MOP,Map Open Position,0,0
IWH,Map Image Width/Height,4303,5075
