OziExplorer Map Data File Version 2.2
N-35-123 Белоозерск
C:\strorry\Maps\Genshtab_1k\n-35-123.ozfx3
1 ,Map Code,
Pulkovo 1942 (1),WGS 84, 0.0000, 0.0000,WGS 84
Reserved 1
Reserved 2
Magnetic Variation,,,E
Map Projection,Transverse Mercator,PolyCal,No,AutoCalOnly,No,BSBUseWPX,No
Point01,xy, 171, 262,in, deg, 52, 40.0000,N, 25, 0.0000,E, grid, , , ,N
Point02,xy, 4205, 262,in, deg, 52, 40.0000,N, 25, 30.0000,E, grid, , , ,N
Point03,xy, 4222, 4646,in, deg, 52, 20.0000,N, 25, 30.0000,E, grid, , , ,N
Point04,xy, 159, 4648,in, deg, 52, 20.0000,N, 25, 0.0000,E, grid, , , ,N
Point05,xy, 2190, 2459,in, deg, 52, 30.0000,N, 25, 15.0000,E, grid, , , ,N
Point06,xy, 2188, 268,in, deg, 52, 40.0000,N, 25, 15.0000,E, grid, , , ,N
Point07,xy, 162, 2458,in, deg, 52, 30.0000,N, 25, 0.0000,E, grid, , , ,N
Point08,xy, 4215, 2455,in, deg, 52, 30.0000,N, 25, 30.0000,E, grid, , , ,N
Point09,xy, 2190, 4651,in, deg, 52, 20.0000,N, 25, 15.0000,E, grid, , , ,N
Point10,xy, , ,in, deg, , ,N, , ,W, grid, , , ,N
Point11,xy, , ,in, deg, , ,N, , ,W, grid, , , ,N
Point12,xy, , ,in, deg, , ,N, , ,W, grid, , , ,N
Point13,xy, , ,in, deg, , ,N, , ,W, grid, , , ,N
Point14,xy, , ,in, deg, , ,N, , ,W, grid, , , ,N
Point15,xy, , ,in, deg, , ,N, , ,W, grid, , , ,N
Point16,xy, , ,in, deg, , ,N, , ,W, grid, , , ,N
Point17,xy, , ,in, deg, , ,N, , ,W, grid, , , ,N
Point18,xy, , ,in, deg, , ,N, , ,W, grid, , , ,N
Point19,xy, , ,in, deg, , ,N, , ,W, grid, , , ,N
Point20,xy, , ,in, deg, , ,N, , ,W, grid, , , ,N
Point21,xy, , ,in, deg, , ,N, , ,W, grid, , , ,N
Point22,xy, , ,in, deg, , ,N, , ,W, grid, , , ,N
Point23,xy, , ,in, deg, , ,N, , ,W, grid, , , ,N
Point24,xy, , ,in, deg, , ,N, , ,W, grid, , , ,N
Point25,xy, , ,in, deg, , ,N, , ,W, grid, , , ,N
Point26,xy, , ,in, deg, , ,N, , ,W, grid, , , ,N
Point27,xy, , ,in, deg, , ,N, , ,W, grid, , , ,N
Point28,xy, , ,in, deg, , ,N, , ,W, grid, , , ,N
Point29,xy, , ,in, deg, , ,N, , ,W, grid, , , ,N
Point30,xy, , ,in, deg, , ,N, , ,W, grid, , , ,N
Projection Setup, 0.000000000, 27.000000000, 1.000000000, 5500000.00, 0.00,,,,,
Map Feature = MF ; Map Comment = MC These follow if they exist
Track File = TF These follow if they exist
Moving Map Parameters = MM? These follow if they exist
MM0,Yes
MMPNUM,4
MMPXY,1,171,262
MMPXY,2,4205,262
MMPXY,3,4223,4646
MMPXY,4,159,4648
MMPLL,1,25.000047,52.666815
MMPLL,2,25.499965,52.666705
MMPLL,3,25.500008,52.333379
MMPLL,4,25.000169,52.333372
MM1B,8.379643
MOP,Map Open Position,0,0
IWH,Map Image Width/Height,4378,5086
