OziExplorer Map Data File Version 2.2
N-35-115 Старобин
C:\strorry\Maps\Genshtab_1k\n-35-115.ozfx3
1 ,Map Code,
Pulkovo 1942 (1),WGS 84, 0.0000, 0.0000,WGS 84
Reserved 1
Reserved 2
Magnetic Variation,,,E
Map Projection,Transverse Mercator,PolyCal,No,AutoCalOnly,No,BSBUseWPX,No
Point01,xy, 138, 252,in, deg, 53, 0.0000,N, 27, 0.0000,E, grid, , , ,N
Point02,xy, 4138, 252,in, deg, 53, 0.0000,N, 27, 30.0000,E, grid, , , ,N
Point03,xy, 4150, 4628,in, deg, 52, 40.0000,N, 27, 30.0000,E, grid, , , ,N
Point04,xy, 121, 4626,in, deg, 52, 40.0000,N, 27, 0.0000,E, grid, , , ,N
Point05,xy, 2134, 2441,in, deg, 52, 50.0000,N, 27, 15.0000,E, grid, , , ,N
Point06,xy, 2138, 259,in, deg, 53, 0.0000,N, 27, 15.0000,E, grid, , , ,N
Point07,xy, 128, 2440,in, deg, 52, 50.0000,N, 27, 0.0000,E, grid, , , ,N
Point08,xy, 4147, 2437,in, deg, 52, 50.0000,N, 27, 30.0000,E, grid, , , ,N
Point09,xy, 2131, 4630,in, deg, 52, 40.0000,N, 27, 15.0000,E, grid, , , ,N
Point10,xy, , ,in, deg, , ,N, , ,W, grid, , , ,N
Point11,xy, , ,in, deg, , ,N, , ,W, grid, , , ,N
Point12,xy, , ,in, deg, , ,N, , ,W, grid, , , ,N
Point13,xy, , ,in, deg, , ,N, , ,W, grid, , , ,N
Point14,xy, , ,in, deg, , ,N, , ,W, grid, , , ,N
Point15,xy, , ,in, deg, , ,N, , ,W, grid, , , ,N
Point16,xy, , ,in, deg, , ,N, , ,W, grid, , , ,N
Point17,xy, , ,in, deg, , ,N, , ,W, grid, , , ,N
Point18,xy, , ,in, deg, , ,N, , ,W, grid, , , ,N
Point19,xy, , ,in, deg, , ,N, , ,W, grid, , , ,N
Point20,xy, , ,in, deg, , ,N, , ,W, grid, , , ,N
Point21,xy, , ,in, deg, , ,N, , ,W, grid, , , ,N
Point22,xy, , ,in, deg, , ,N, , ,W, grid, , , ,N
Point23,xy, , ,in, deg, , ,N, , ,W, grid, , , ,N
Point24,xy, , ,in, deg, , ,N, , ,W, grid, , , ,N
Point25,xy, , ,in, deg, , ,N, , ,W, grid, , , ,N
Point26,xy, , ,in, deg, , ,N, , ,W, grid, , , ,N
Point27,xy, , ,in, deg, , ,N, , ,W, grid, , , ,N
Point28,xy, , ,in, deg, , ,N, , ,W, grid, , , ,N
Point29,xy, , ,in, deg, , ,N, , ,W, grid, , , ,N
Point30,xy, , ,in, deg, , ,N, , ,W, grid, , , ,N
Projection Setup, 0.000000000, 27.000000000, 1.000000000, 5500000.00, 0.00,,,,,
Map Feature = MF ; Map Comment = MC These follow if they exist
Track File = TF These follow if they exist
Moving Map Parameters = MM? These follow if they exist
MM0,Yes
MMPNUM,4
MMPXY,1,138,251
MMPXY,2,4138,251
MMPXY,3,4150,4627
MMPXY,4,120,4626
MMPLL,1,27.000024,53.000133
MMPLL,2,27.499948,53.000105
MMPLL,3,27.500025,52.666596
MMPLL,4,27.000195,52.666696
MM1B,8.387609
MOP,Map Open Position,0,0
IWH,Map Image Width/Height,4270,5067
