OziExplorer Map Data File Version 2.2
N-35-111 Ивацевичи
C:\strorry\Maps\Genshtab_1k\n-35-111.ozfx3
1 ,Map Code,
Pulkovo 1942 (1),WGS 84, 0.0000, 0.0000,WGS 84
Reserved 1
Reserved 2
Magnetic Variation,,,E
Map Projection,Transverse Mercator,PolyCal,No,AutoCalOnly,No,BSBUseWPX,No
Point01,xy, 164, 243,in, deg, 53, 0.0000,N, 25, 0.0000,E, grid, , , ,N
Point02,xy, 4168, 244,in, deg, 53, 0.0000,N, 25, 30.0000,E, grid, , , ,N
Point03,xy, 4180, 4638,in, deg, 52, 40.0000,N, 25, 30.0000,E, grid, , , ,N
Point04,xy, 151, 4639,in, deg, 52, 40.0000,N, 25, 0.0000,E, grid, , , ,N
Point05,xy, 2165, 2445,in, deg, 52, 50.0000,N, 25, 15.0000,E, grid, , , ,N
Point06,xy, 2169, 250,in, deg, 53, 0.0000,N, 25, 15.0000,E, grid, , , ,N
Point07,xy, 157, 2440,in, deg, 52, 50.0000,N, 25, 0.0000,E, grid, , , ,N
Point08,xy, 4176, 2443,in, deg, 52, 50.0000,N, 25, 30.0000,E, grid, , , ,N
Point09,xy, 2166, 4642,in, deg, 52, 40.0000,N, 25, 15.0000,E, grid, , , ,N
Point10,xy, , ,in, deg, , ,N, , ,W, grid, , , ,N
Point11,xy, , ,in, deg, , ,N, , ,W, grid, , , ,N
Point12,xy, , ,in, deg, , ,N, , ,W, grid, , , ,N
Point13,xy, , ,in, deg, , ,N, , ,W, grid, , , ,N
Point14,xy, , ,in, deg, , ,N, , ,W, grid, , , ,N
Point15,xy, , ,in, deg, , ,N, , ,W, grid, , , ,N
Point16,xy, , ,in, deg, , ,N, , ,W, grid, , , ,N
Point17,xy, , ,in, deg, , ,N, , ,W, grid, , , ,N
Point18,xy, , ,in, deg, , ,N, , ,W, grid, , , ,N
Point19,xy, , ,in, deg, , ,N, , ,W, grid, , , ,N
Point20,xy, , ,in, deg, , ,N, , ,W, grid, , , ,N
Point21,xy, , ,in, deg, , ,N, , ,W, grid, , , ,N
Point22,xy, , ,in, deg, , ,N, , ,W, grid, , , ,N
Point23,xy, , ,in, deg, , ,N, , ,W, grid, , , ,N
Point24,xy, , ,in, deg, , ,N, , ,W, grid, , , ,N
Point25,xy, , ,in, deg, , ,N, , ,W, grid, , , ,N
Point26,xy, , ,in, deg, , ,N, , ,W, grid, , , ,N
Point27,xy, , ,in, deg, , ,N, , ,W, grid, , , ,N
Point28,xy, , ,in, deg, , ,N, , ,W, grid, , , ,N
Point29,xy, , ,in, deg, , ,N, , ,W, grid, , , ,N
Point30,xy, , ,in, deg, , ,N, , ,W, grid, , , ,N
Projection Setup, 0.000000000, 27.000000000, 1.000000000, 5500000.00, 0.00,,,,,
Map Feature = MF ; Map Comment = MC These follow if they exist
Track File = TF These follow if they exist
Moving Map Parameters = MM? These follow if they exist
MM0,Yes
MMPNUM,4
MMPXY,1,163,243
MMPXY,2,4168,244
MMPXY,3,4180,4638
MMPXY,4,151,4639
MMPLL,1,24.999634,53.000067
MMPLL,2,25.500018,53.000084
MMPLL,3,25.499763,52.666735
MMPLL,4,25.000223,52.666599
MM1B,8.383851
MOP,Map Open Position,0,0
IWH,Map Image Width/Height,4334,5082
