OziExplorer Map Data File Version 2.2
N-35-110 Ружаны
C:\strorry\Maps\Genshtab_1k\n-35-110.ozfx3
1 ,Map Code,
Pulkovo 1942 (1),WGS 84, 0.0000, 0.0000,WGS 84
Reserved 1
Reserved 2
Magnetic Variation,,,E
Map Projection,Transverse Mercator,PolyCal,No,AutoCalOnly,No,BSBUseWPX,No
Point01,xy, 161, 256,in, deg, 53, 0.0000,N, 24, 30.0000,E, grid, , , ,N
Point02,xy, 4169, 257,in, deg, 53, 0.0000,N, 25, 0.0000,E, grid, , , ,N
Point03,xy, 4185, 4641,in, deg, 52, 40.0000,N, 25, 0.0000,E, grid, , , ,N
Point04,xy, 150, 4641,in, deg, 52, 40.0000,N, 24, 30.0000,E, grid, , , ,N
Point05,xy, 2169, 2451,in, deg, 52, 50.0000,N, 24, 45.0000,E, grid, , , ,N
Point06,xy, 2164, 264,in, deg, 53, 0.0000,N, 24, 45.0000,E, grid, , , ,N
Point07,xy, 153, 2452,in, deg, 52, 50.0000,N, 24, 30.0000,E, grid, , , ,N
Point08,xy, 4181, 2451,in, deg, 52, 50.0000,N, 25, 0.0000,E, grid, , , ,N
Point09,xy, 2170, 4645,in, deg, 52, 40.0000,N, 24, 45.0000,E, grid, , , ,N
Point10,xy, , ,in, deg, , ,N, , ,W, grid, , , ,N
Point11,xy, , ,in, deg, , ,N, , ,W, grid, , , ,N
Point12,xy, , ,in, deg, , ,N, , ,W, grid, , , ,N
Point13,xy, , ,in, deg, , ,N, , ,W, grid, , , ,N
Point14,xy, , ,in, deg, , ,N, , ,W, grid, , , ,N
Point15,xy, , ,in, deg, , ,N, , ,W, grid, , , ,N
Point16,xy, , ,in, deg, , ,N, , ,W, grid, , , ,N
Point17,xy, , ,in, deg, , ,N, , ,W, grid, , , ,N
Point18,xy, , ,in, deg, , ,N, , ,W, grid, , , ,N
Point19,xy, , ,in, deg, , ,N, , ,W, grid, , , ,N
Point20,xy, , ,in, deg, , ,N, , ,W, grid, , , ,N
Point21,xy, , ,in, deg, , ,N, , ,W, grid, , , ,N
Point22,xy, , ,in, deg, , ,N, , ,W, grid, , , ,N
Point23,xy, , ,in, deg, , ,N, , ,W, grid, , , ,N
Point24,xy, , ,in, deg, , ,N, , ,W, grid, , , ,N
Point25,xy, , ,in, deg, , ,N, , ,W, grid, , , ,N
Point26,xy, , ,in, deg, , ,N, , ,W, grid, , , ,N
Point27,xy, , ,in, deg, , ,N, , ,W, grid, , , ,N
Point28,xy, , ,in, deg, , ,N, , ,W, grid, , , ,N
Point29,xy, , ,in, deg, , ,N, , ,W, grid, , , ,N
Point30,xy, , ,in, deg, , ,N, , ,W, grid, , , ,N
Projection Setup, 0.000000000, 27.000000000, 1.000000000, 5500000.00, 0.00,,,,,
Map Feature = MF ; Map Comment = MC These follow if they exist
Track File = TF These follow if they exist
Moving Map Parameters = MM? These follow if they exist
MM0,Yes
MMPNUM,4
MMPXY,1,161,257
MMPXY,2,4169,256
MMPXY,3,4185,4641
MMPXY,4,150,4640
MMPLL,1,24.500008,53.000070
MMPLL,2,24.999978,53.000167
MMPLL,3,24.999597,52.666687
MMPLL,4,24.500099,52.666783
MM1B,8.369911
MOP,Map Open Position,0,0
IWH,Map Image Width/Height,4340,5078
