OziExplorer Map Data File Version 2.2
N-35-108 Бол. Бортники
C:\strorry\Maps\Genshtab_1k\n-35-108.ozfx3
1 ,Map Code,
Pulkovo 1942 (1),WGS 84, 0.0000, 0.0000,WGS 84
Reserved 1
Reserved 2
Magnetic Variation,,,E
Map Projection,Transverse Mercator,PolyCal,No,AutoCalOnly,No,BSBUseWPX,No
Point01,xy, 171, 259,in, deg, 53, 20.0000,N, 29, 30.0000,E, grid, , , ,N
Point02,xy, 4135, 261,in, deg, 53, 20.0000,N, 30, 0.0000,E, grid, , , ,N
Point03,xy, 4153, 4649,in, deg, 53, 0.0000,N, 30, 0.0000,E, grid, , , ,N
Point04,xy, 155, 4647,in, deg, 53, 0.0000,N, 29, 30.0000,E, grid, , , ,N
Point05,xy, 2153, 2456,in, deg, 53, 10.0000,N, 29, 45.0000,E, grid, , , ,N
Point06,xy, 2154, 262,in, deg, 53, 20.0000,N, 29, 45.0000,E, grid, , , ,N
Point07,xy, 162, 2455,in, deg, 53, 10.0000,N, 29, 30.0000,E, grid, , , ,N
Point08,xy, 4145, 2452,in, deg, 53, 10.0000,N, 30, 0.0000,E, grid, , , ,N
Point09,xy, 2156, 4651,in, deg, 53, 0.0000,N, 29, 45.0000,E, grid, , , ,N
Point10,xy, , ,in, deg, , ,N, , ,W, grid, , , ,N
Point11,xy, , ,in, deg, , ,N, , ,W, grid, , , ,N
Point12,xy, , ,in, deg, , ,N, , ,W, grid, , , ,N
Point13,xy, , ,in, deg, , ,N, , ,W, grid, , , ,N
Point14,xy, , ,in, deg, , ,N, , ,W, grid, , , ,N
Point15,xy, , ,in, deg, , ,N, , ,W, grid, , , ,N
Point16,xy, , ,in, deg, , ,N, , ,W, grid, , , ,N
Point17,xy, , ,in, deg, , ,N, , ,W, grid, , , ,N
Point18,xy, , ,in, deg, , ,N, , ,W, grid, , , ,N
Point19,xy, , ,in, deg, , ,N, , ,W, grid, , , ,N
Point20,xy, , ,in, deg, , ,N, , ,W, grid, , , ,N
Point21,xy, , ,in, deg, , ,N, , ,W, grid, , , ,N
Point22,xy, , ,in, deg, , ,N, , ,W, grid, , , ,N
Point23,xy, , ,in, deg, , ,N, , ,W, grid, , , ,N
Point24,xy, , ,in, deg, , ,N, , ,W, grid, , , ,N
Point25,xy, , ,in, deg, , ,N, , ,W, grid, , , ,N
Point26,xy, , ,in, deg, , ,N, , ,W, grid, , , ,N
Point27,xy, , ,in, deg, , ,N, , ,W, grid, , , ,N
Point28,xy, , ,in, deg, , ,N, , ,W, grid, , , ,N
Point29,xy, , ,in, deg, , ,N, , ,W, grid, , , ,N
Point30,xy, , ,in, deg, , ,N, , ,W, grid, , , ,N
Projection Setup, 0.000000000, 27.000000000, 1.000000000, 5500000.00, 0.00,,,,,
Map Feature = MF ; Map Comment = MC These follow if they exist
Track File = TF These follow if they exist
Moving Map Parameters = MM? These follow if they exist
MM0,Yes
MMPNUM,4
MMPXY,1,171,259
MMPXY,2,4136,260
MMPXY,3,4153,4650
MMPXY,4,154,4648
MMPLL,1,29.500127,53.333359
MMPLL,2,29.999972,53.333283
MMPLL,3,30.000000,52.999848
MMPLL,4,29.499764,52.999949
MM1B,8.392290
MOP,Map Open Position,0,0
IWH,Map Image Width/Height,4307,5112
