OziExplorer Map Data File Version 2.2
N-35-107 Αξαπσιρκ
C:\strorry\Maps\Genshtab_1k\n-35-107.ozfx3
1 ,Map Code,
Pulkovo 1942 (1),WGS 84, 0.0000, 0.0000,WGS 84
Reserved 1
Reserved 2
Magnetic Variation,,,E
Map Projection,Transverse Mercator,PolyCal,No,AutoCalOnly,No,BSBUseWPX,No
Point01,xy, 161, 254,in, deg, 53, 20.0000,N, 29, 0.0000,E, grid, , , ,N
Point02,xy, 4130, 253,in, deg, 53, 20.0000,N, 29, 30.0000,E, grid, , , ,N
Point03,xy, 4149, 4643,in, deg, 53, 0.0000,N, 29, 30.0000,E, grid, , , ,N
Point04,xy, 150, 4643,in, deg, 53, 0.0000,N, 29, 0.0000,E, grid, , , ,N
Point05,xy, 2149, 2452,in, deg, 53, 10.0000,N, 29, 15.0000,E, grid, , , ,N
Point06,xy, 2148, 257,in, deg, 53, 20.0000,N, 29, 15.0000,E, grid, , , ,N
Point07,xy, 155, 2449,in, deg, 53, 10.0000,N, 29, 0.0000,E, grid, , , ,N
Point08,xy, 4141, 2450,in, deg, 53, 10.0000,N, 29, 30.0000,E, grid, , , ,N
Point09,xy, 2150, 4646,in, deg, 53, 0.0000,N, 29, 15.0000,E, grid, , , ,N
Point10,xy, , ,in, deg, , ,N, , ,W, grid, , , ,N
Point11,xy, , ,in, deg, , ,N, , ,W, grid, , , ,N
Point12,xy, , ,in, deg, , ,N, , ,W, grid, , , ,N
Point13,xy, , ,in, deg, , ,N, , ,W, grid, , , ,N
Point14,xy, , ,in, deg, , ,N, , ,W, grid, , , ,N
Point15,xy, , ,in, deg, , ,N, , ,W, grid, , , ,N
Point16,xy, , ,in, deg, , ,N, , ,W, grid, , , ,N
Point17,xy, , ,in, deg, , ,N, , ,W, grid, , , ,N
Point18,xy, , ,in, deg, , ,N, , ,W, grid, , , ,N
Point19,xy, , ,in, deg, , ,N, , ,W, grid, , , ,N
Point20,xy, , ,in, deg, , ,N, , ,W, grid, , , ,N
Point21,xy, , ,in, deg, , ,N, , ,W, grid, , , ,N
Point22,xy, , ,in, deg, , ,N, , ,W, grid, , , ,N
Point23,xy, , ,in, deg, , ,N, , ,W, grid, , , ,N
Point24,xy, , ,in, deg, , ,N, , ,W, grid, , , ,N
Point25,xy, , ,in, deg, , ,N, , ,W, grid, , , ,N
Point26,xy, , ,in, deg, , ,N, , ,W, grid, , , ,N
Point27,xy, , ,in, deg, , ,N, , ,W, grid, , , ,N
Point28,xy, , ,in, deg, , ,N, , ,W, grid, , , ,N
Point29,xy, , ,in, deg, , ,N, , ,W, grid, , , ,N
Point30,xy, , ,in, deg, , ,N, , ,W, grid, , , ,N
Projection Setup, 0.000000000, 27.000000000, 1.000000000, 5500000.00, 0.00,,,,,
Map Feature = MF ; Map Comment = MC These follow if they exist
Track File = TF These follow if they exist
Moving Map Parameters = MM? These follow if they exist
MM0,Yes
MMPNUM,4
MMPXY,1,161,254
MMPXY,2,4131,253
MMPXY,3,4149,4643
MMPXY,4,151,4643
MMPLL,1,28.999895,53.333331
MMPLL,2,29.499995,53.333387
MMPLL,3,29.499897,53.000023
MMPLL,4,29.000160,53.000003
MM1B,8.386908
MOP,Map Open Position,0,0
IWH,Map Image Width/Height,4296,5095
