OziExplorer Map Data File Version 2.2
N-35-103 Копыль
C:\strorry\Maps\Genshtab_1k\n-35-103.ozfx3
1 ,Map Code,
Pulkovo 1942 (1),WGS 84, 0.0000, 0.0000,WGS 84
Reserved 1
Reserved 2
Magnetic Variation,,,E
Map Projection,Transverse Mercator,PolyCal,No,AutoCalOnly,No,BSBUseWPX,No
Point01,xy, 135, 265,in, deg, 53, 20.0000,N, 27, 0.0000,E, grid, , , ,N
Point02,xy, 4108, 264,in, deg, 53, 20.0000,N, 27, 30.0000,E, grid, , , ,N
Point03,xy, 4128, 4645,in, deg, 53, 0.0000,N, 27, 30.0000,E, grid, , , ,N
Point04,xy, 126, 4649,in, deg, 53, 0.0000,N, 27, 0.0000,E, grid, , , ,N
Point05,xy, 2126, 2457,in, deg, 53, 10.0000,N, 27, 15.0000,E, grid, , , ,N
Point06,xy, 2123, 269,in, deg, 53, 20.0000,N, 27, 15.0000,E, grid, , , ,N
Point07,xy, 128, 2455,in, deg, 53, 10.0000,N, 27, 0.0000,E, grid, , , ,N
Point08,xy, 4120, 2454,in, deg, 53, 10.0000,N, 27, 30.0000,E, grid, , , ,N
Point09,xy, 2131, 4651,in, deg, 53, 0.0000,N, 27, 15.0000,E, grid, , , ,N
Point10,xy, , ,in, deg, , ,N, , ,W, grid, , , ,N
Point11,xy, , ,in, deg, , ,N, , ,W, grid, , , ,N
Point12,xy, , ,in, deg, , ,N, , ,W, grid, , , ,N
Point13,xy, , ,in, deg, , ,N, , ,W, grid, , , ,N
Point14,xy, , ,in, deg, , ,N, , ,W, grid, , , ,N
Point15,xy, , ,in, deg, , ,N, , ,W, grid, , , ,N
Point16,xy, , ,in, deg, , ,N, , ,W, grid, , , ,N
Point17,xy, , ,in, deg, , ,N, , ,W, grid, , , ,N
Point18,xy, , ,in, deg, , ,N, , ,W, grid, , , ,N
Point19,xy, , ,in, deg, , ,N, , ,W, grid, , , ,N
Point20,xy, , ,in, deg, , ,N, , ,W, grid, , , ,N
Point21,xy, , ,in, deg, , ,N, , ,W, grid, , , ,N
Point22,xy, , ,in, deg, , ,N, , ,W, grid, , , ,N
Point23,xy, , ,in, deg, , ,N, , ,W, grid, , , ,N
Point24,xy, , ,in, deg, , ,N, , ,W, grid, , , ,N
Point25,xy, , ,in, deg, , ,N, , ,W, grid, , , ,N
Point26,xy, , ,in, deg, , ,N, , ,W, grid, , , ,N
Point27,xy, , ,in, deg, , ,N, , ,W, grid, , , ,N
Point28,xy, , ,in, deg, , ,N, , ,W, grid, , , ,N
Point29,xy, , ,in, deg, , ,N, , ,W, grid, , , ,N
Point30,xy, , ,in, deg, , ,N, , ,W, grid, , , ,N
Projection Setup, 0.000000000, 27.000000000, 1.000000000, 5500000.00, 0.00,,,,,
Map Feature = MF ; Map Comment = MC These follow if they exist
Track File = TF These follow if they exist
Moving Map Parameters = MM? These follow if they exist
MM0,Yes
MMPNUM,4
MMPXY,1,136,265
MMPXY,2,4108,263
MMPXY,3,4128,4644
MMPXY,4,126,4650
MMPLL,1,27.000118,53.333352
MMPLL,2,27.499925,53.333350
MMPLL,3,27.499703,53.000120
MMPLL,4,27.000008,52.999814
MM1B,8.379600
MOP,Map Open Position,0,0
IWH,Map Image Width/Height,4252,5091
