OziExplorer Map Data File Version 2.2
N-35-102 Несвиж
C:\strorry\Maps\Genshtab_1k\n-35-102.ozfx3
1 ,Map Code,
Pulkovo 1942 (1),WGS 84, 0.0000, 0.0000,WGS 84
Reserved 1
Reserved 2
Magnetic Variation,,,E
Map Projection,Transverse Mercator,PolyCal,No,AutoCalOnly,No,BSBUseWPX,No
Point01,xy, 137, 238,in, deg, 53, 20.0000,N, 26, 30.0000,E, grid, , , ,N
Point02,xy, 4112, 238,in, deg, 53, 20.0000,N, 27, 0.0000,E, grid, , , ,N
Point03,xy, 4125, 4622,in, deg, 53, 0.0000,N, 27, 0.0000,E, grid, , , ,N
Point04,xy, 124, 4625,in, deg, 53, 0.0000,N, 26, 30.0000,E, grid, , , ,N
Point05,xy, 2125, 2435,in, deg, 53, 10.0000,N, 26, 45.0000,E, grid, , , ,N
Point06,xy, 2126, 243,in, deg, 53, 20.0000,N, 26, 45.0000,E, grid, , , ,N
Point07,xy, 130, 2434,in, deg, 53, 10.0000,N, 26, 30.0000,E, grid, , , ,N
Point08,xy, 4118, 2433,in, deg, 53, 10.0000,N, 27, 0.0000,E, grid, , , ,N
Point09,xy, 2127, 4628,in, deg, 53, 0.0000,N, 26, 45.0000,E, grid, , , ,N
Point10,xy, , ,in, deg, , ,N, , ,W, grid, , , ,N
Point11,xy, , ,in, deg, , ,N, , ,W, grid, , , ,N
Point12,xy, , ,in, deg, , ,N, , ,W, grid, , , ,N
Point13,xy, , ,in, deg, , ,N, , ,W, grid, , , ,N
Point14,xy, , ,in, deg, , ,N, , ,W, grid, , , ,N
Point15,xy, , ,in, deg, , ,N, , ,W, grid, , , ,N
Point16,xy, , ,in, deg, , ,N, , ,W, grid, , , ,N
Point17,xy, , ,in, deg, , ,N, , ,W, grid, , , ,N
Point18,xy, , ,in, deg, , ,N, , ,W, grid, , , ,N
Point19,xy, , ,in, deg, , ,N, , ,W, grid, , , ,N
Point20,xy, , ,in, deg, , ,N, , ,W, grid, , , ,N
Point21,xy, , ,in, deg, , ,N, , ,W, grid, , , ,N
Point22,xy, , ,in, deg, , ,N, , ,W, grid, , , ,N
Point23,xy, , ,in, deg, , ,N, , ,W, grid, , , ,N
Point24,xy, , ,in, deg, , ,N, , ,W, grid, , , ,N
Point25,xy, , ,in, deg, , ,N, , ,W, grid, , , ,N
Point26,xy, , ,in, deg, , ,N, , ,W, grid, , , ,N
Point27,xy, , ,in, deg, , ,N, , ,W, grid, , , ,N
Point28,xy, , ,in, deg, , ,N, , ,W, grid, , , ,N
Point29,xy, , ,in, deg, , ,N, , ,W, grid, , , ,N
Point30,xy, , ,in, deg, , ,N, , ,W, grid, , , ,N
Projection Setup, 0.000000000, 27.000000000, 1.000000000, 5500000.00, 0.00,,,,,
Map Feature = MF ; Map Comment = MC These follow if they exist
Track File = TF These follow if they exist
Moving Map Parameters = MM? These follow if they exist
MM0,Yes
MMPNUM,4
MMPXY,1,136,238
MMPXY,2,4111,238
MMPXY,3,4125,4622
MMPXY,4,123,4626
MMPLL,1,26.499690,53.333463
MMPLL,2,27.000001,53.333365
MMPLL,3,26.999779,53.000130
MMPLL,4,26.499958,52.999930
MM1B,8.381691
MOP,Map Open Position,0,0
IWH,Map Image Width/Height,4251,5053
