OziExplorer Map Data File Version 2.2
N-35-100 Новая Мышь
C:\strorry\Maps\Genshtab_1k\n-35-100.ozfx3
1 ,Map Code,
Pulkovo 1942 (1),WGS 84, 0.0000, 0.0000,WGS 84
Reserved 1
Reserved 2
Magnetic Variation,,,E
Map Projection,Transverse Mercator,PolyCal,No,AutoCalOnly,No,BSBUseWPX,No
Point01,xy, 164, 255,in, deg, 53, 20.0000,N, 25, 30.0000,E, grid, , , ,N
Point02,xy, 4138, 258,in, deg, 53, 20.0000,N, 26, 0.0000,E, grid, , , ,N
Point03,xy, 4154, 4646,in, deg, 53, 0.0000,N, 26, 0.0000,E, grid, , , ,N
Point04,xy, 151, 4646,in, deg, 53, 0.0000,N, 25, 30.0000,E, grid, , , ,N
Point05,xy, 2152, 2453,in, deg, 53, 10.0000,N, 25, 45.0000,E, grid, , , ,N
Point06,xy, 2151, 262,in, deg, 53, 20.0000,N, 25, 45.0000,E, grid, , , ,N
Point07,xy, 158, 2451,in, deg, 53, 10.0000,N, 25, 30.0000,E, grid, , , ,N
Point08,xy, 4145, 2451,in, deg, 53, 10.0000,N, 26, 0.0000,E, grid, , , ,N
Point09,xy, 2154, 4651,in, deg, 53, 0.0000,N, 25, 45.0000,E, grid, , , ,N
Point10,xy, , ,in, deg, , ,N, , ,W, grid, , , ,N
Point11,xy, , ,in, deg, , ,N, , ,W, grid, , , ,N
Point12,xy, , ,in, deg, , ,N, , ,W, grid, , , ,N
Point13,xy, , ,in, deg, , ,N, , ,W, grid, , , ,N
Point14,xy, , ,in, deg, , ,N, , ,W, grid, , , ,N
Point15,xy, , ,in, deg, , ,N, , ,W, grid, , , ,N
Point16,xy, , ,in, deg, , ,N, , ,W, grid, , , ,N
Point17,xy, , ,in, deg, , ,N, , ,W, grid, , , ,N
Point18,xy, , ,in, deg, , ,N, , ,W, grid, , , ,N
Point19,xy, , ,in, deg, , ,N, , ,W, grid, , , ,N
Point20,xy, , ,in, deg, , ,N, , ,W, grid, , , ,N
Point21,xy, , ,in, deg, , ,N, , ,W, grid, , , ,N
Point22,xy, , ,in, deg, , ,N, , ,W, grid, , , ,N
Point23,xy, , ,in, deg, , ,N, , ,W, grid, , , ,N
Point24,xy, , ,in, deg, , ,N, , ,W, grid, , , ,N
Point25,xy, , ,in, deg, , ,N, , ,W, grid, , , ,N
Point26,xy, , ,in, deg, , ,N, , ,W, grid, , , ,N
Point27,xy, , ,in, deg, , ,N, , ,W, grid, , , ,N
Point28,xy, , ,in, deg, , ,N, , ,W, grid, , , ,N
Point29,xy, , ,in, deg, , ,N, , ,W, grid, , , ,N
Point30,xy, , ,in, deg, , ,N, , ,W, grid, , , ,N
Projection Setup, 0.000000000, 27.000000000, 1.000000000, 5500000.00, 0.00,,,,,
Map Feature = MF ; Map Comment = MC These follow if they exist
Track File = TF These follow if they exist
Moving Map Parameters = MM? These follow if they exist
MM0,Yes
MMPNUM,4
MMPXY,1,165,254
MMPXY,2,4138,258
MMPXY,3,4154,4646
MMPXY,4,150,4646
MMPLL,1,25.500047,53.333497
MMPLL,2,26.000105,53.333280
MMPLL,3,25.999924,53.000037
MMPLL,4,25.499854,52.999972
MM1B,8.381193
MOP,Map Open Position,0,0
IWH,Map Image Width/Height,4306,5111
