OziExplorer Map Data File Version 2.2
N-35-096 Болонов Селец
C:\strorry\Maps\Genshtab_1k\n-35-096.ozfx3
1 ,Map Code,
Pulkovo 1942 (1),WGS 84, 0.0000, 0.0000,WGS 84
Reserved 1
Reserved 2
Magnetic Variation,,,E
Map Projection,Transverse Mercator,PolyCal,No,AutoCalOnly,No,BSBUseWPX,No
Point01,xy, 168, 260,in, deg, 53, 40.0000,N, 29, 30.0000,E, grid, , , ,N
Point02,xy, 4112, 262,in, deg, 53, 40.0000,N, 30, 0.0000,E, grid, , , ,N
Point03,xy, 4130, 4660,in, deg, 53, 20.0000,N, 30, 0.0000,E, grid, , , ,N
Point04,xy, 153, 4657,in, deg, 53, 20.0000,N, 29, 30.0000,E, grid, , , ,N
Point05,xy, 2139, 2463,in, deg, 53, 30.0000,N, 29, 45.0000,E, grid, , , ,N
Point06,xy, 2141, 263,in, deg, 53, 40.0000,N, 29, 45.0000,E, grid, , , ,N
Point07,xy, 159, 2458,in, deg, 53, 30.0000,N, 29, 30.0000,E, grid, , , ,N
Point08,xy, 4120, 2460,in, deg, 53, 30.0000,N, 30, 0.0000,E, grid, , , ,N
Point09,xy, 2140, 4663,in, deg, 53, 20.0000,N, 29, 45.0000,E, grid, , , ,N
Point10,xy, , ,in, deg, , ,N, , ,W, grid, , , ,N
Point11,xy, , ,in, deg, , ,N, , ,W, grid, , , ,N
Point12,xy, , ,in, deg, , ,N, , ,W, grid, , , ,N
Point13,xy, , ,in, deg, , ,N, , ,W, grid, , , ,N
Point14,xy, , ,in, deg, , ,N, , ,W, grid, , , ,N
Point15,xy, , ,in, deg, , ,N, , ,W, grid, , , ,N
Point16,xy, , ,in, deg, , ,N, , ,W, grid, , , ,N
Point17,xy, , ,in, deg, , ,N, , ,W, grid, , , ,N
Point18,xy, , ,in, deg, , ,N, , ,W, grid, , , ,N
Point19,xy, , ,in, deg, , ,N, , ,W, grid, , , ,N
Point20,xy, , ,in, deg, , ,N, , ,W, grid, , , ,N
Point21,xy, , ,in, deg, , ,N, , ,W, grid, , , ,N
Point22,xy, , ,in, deg, , ,N, , ,W, grid, , , ,N
Point23,xy, , ,in, deg, , ,N, , ,W, grid, , , ,N
Point24,xy, , ,in, deg, , ,N, , ,W, grid, , , ,N
Point25,xy, , ,in, deg, , ,N, , ,W, grid, , , ,N
Point26,xy, , ,in, deg, , ,N, , ,W, grid, , , ,N
Point27,xy, , ,in, deg, , ,N, , ,W, grid, , , ,N
Point28,xy, , ,in, deg, , ,N, , ,W, grid, , , ,N
Point29,xy, , ,in, deg, , ,N, , ,W, grid, , , ,N
Point30,xy, , ,in, deg, , ,N, , ,W, grid, , , ,N
Projection Setup, 0.000000000, 27.000000000, 1.000000000, 5500000.00, 0.00,,,,,
Map Feature = MF ; Map Comment = MC These follow if they exist
Track File = TF These follow if they exist
Moving Map Parameters = MM? These follow if they exist
MM0,Yes
MMPNUM,4
MMPXY,1,169,260
MMPXY,2,4113,262
MMPXY,3,4129,4660
MMPXY,4,152,4657
MMPLL,1,29.500213,53.666617
MMPLL,2,30.000071,53.666617
MMPLL,3,30.000043,53.333334
MMPLL,4,29.499944,53.333359
MM1B,8.371001
MOP,Map Open Position,0,0
IWH,Map Image Width/Height,4284,5101
