OziExplorer Map Data File Version 2.2
N-35-092 Руденск
C:\strorry\Maps\Genshtab_1k\n-35-092.ozfx3
1 ,Map Code,
Pulkovo 1942 (1),WGS 84, 0.0000, 0.0000,WGS 84
Reserved 1
Reserved 2
Magnetic Variation,,,E
Map Projection,Transverse Mercator,PolyCal,No,AutoCalOnly,No,BSBUseWPX,No
Point01,xy, 144, 256,in, deg, 53, 40.0000,N, 27, 30.0000,E, grid, , , ,N
Point02,xy, 4079, 255,in, deg, 53, 40.0000,N, 28, 0.0000,E, grid, , , ,N
Point03,xy, 4097, 4637,in, deg, 53, 20.0000,N, 28, 0.0000,E, grid, , , ,N
Point04,xy, 128, 4637,in, deg, 53, 20.0000,N, 27, 30.0000,E, grid, , , ,N
Point05,xy, 2111, 2449,in, deg, 53, 30.0000,N, 27, 45.0000,E, grid, , , ,N
Point06,xy, 2111, 258,in, deg, 53, 40.0000,N, 27, 45.0000,E, grid, , , ,N
Point07,xy, 136, 2448,in, deg, 53, 30.0000,N, 27, 30.0000,E, grid, , , ,N
Point08,xy, 4088, 2446,in, deg, 53, 30.0000,N, 28, 0.0000,E, grid, , , ,N
Point09,xy, 2113, 4640,in, deg, 53, 20.0000,N, 27, 45.0000,E, grid, , , ,N
Point10,xy, , ,in, deg, , ,N, , ,W, grid, , , ,N
Point11,xy, , ,in, deg, , ,N, , ,W, grid, , , ,N
Point12,xy, , ,in, deg, , ,N, , ,W, grid, , , ,N
Point13,xy, , ,in, deg, , ,N, , ,W, grid, , , ,N
Point14,xy, , ,in, deg, , ,N, , ,W, grid, , , ,N
Point15,xy, , ,in, deg, , ,N, , ,W, grid, , , ,N
Point16,xy, , ,in, deg, , ,N, , ,W, grid, , , ,N
Point17,xy, , ,in, deg, , ,N, , ,W, grid, , , ,N
Point18,xy, , ,in, deg, , ,N, , ,W, grid, , , ,N
Point19,xy, , ,in, deg, , ,N, , ,W, grid, , , ,N
Point20,xy, , ,in, deg, , ,N, , ,W, grid, , , ,N
Point21,xy, , ,in, deg, , ,N, , ,W, grid, , , ,N
Point22,xy, , ,in, deg, , ,N, , ,W, grid, , , ,N
Point23,xy, , ,in, deg, , ,N, , ,W, grid, , , ,N
Point24,xy, , ,in, deg, , ,N, , ,W, grid, , , ,N
Point25,xy, , ,in, deg, , ,N, , ,W, grid, , , ,N
Point26,xy, , ,in, deg, , ,N, , ,W, grid, , , ,N
Point27,xy, , ,in, deg, , ,N, , ,W, grid, , , ,N
Point28,xy, , ,in, deg, , ,N, , ,W, grid, , , ,N
Point29,xy, , ,in, deg, , ,N, , ,W, grid, , , ,N
Point30,xy, , ,in, deg, , ,N, , ,W, grid, , , ,N
Projection Setup, 0.000000000, 27.000000000, 1.000000000, 5500000.00, 0.00,,,,,
Map Feature = MF ; Map Comment = MC These follow if they exist
Track File = TF These follow if they exist
Moving Map Parameters = MM? These follow if they exist
MM0,Yes
MMPNUM,4
MMPXY,1,143,255
MMPXY,2,4080,255
MMPXY,3,4097,4637
MMPXY,4,128,4637
MMPLL,1,27.500003,53.666734
MMPLL,2,28.000067,53.666652
MMPLL,3,28.000088,53.333299
MMPLL,4,27.499898,53.333369
MM1B,8.392183
MOP,Map Open Position,0,0
IWH,Map Image Width/Height,4226,5077
