OziExplorer Map Data File Version 2.2
N-35-091 Óçäà
C:\strorry\Maps\Genshtab_1k\n-35-091.ozfx3
1 ,Map Code,
Pulkovo 1942 (1),WGS 84, 0.0000, 0.0000,WGS 84
Reserved 1
Reserved 2
Magnetic Variation,,,E
Map Projection,Transverse Mercator,PolyCal,No,AutoCalOnly,No,BSBUseWPX,No
Point01,xy, 133, 251,in, deg, 53, 40.0000,N, 27, 0.0000,E, grid, , , ,N
Point02,xy, 4067, 247,in, deg, 53, 40.0000,N, 27, 30.0000,E, grid, , , ,N
Point03,xy, 4089, 4627,in, deg, 53, 20.0000,N, 27, 30.0000,E, grid, , , ,N
Point04,xy, 123, 4633,in, deg, 53, 20.0000,N, 27, 0.0000,E, grid, , , ,N
Point05,xy, 2104, 2442,in, deg, 53, 30.0000,N, 27, 15.0000,E, grid, , , ,N
Point06,xy, 2099, 251,in, deg, 53, 40.0000,N, 27, 15.0000,E, grid, , , ,N
Point07,xy, 127, 2443,in, deg, 53, 30.0000,N, 27, 0.0000,E, grid, , , ,N
Point08,xy, 4079, 2437,in, deg, 53, 30.0000,N, 27, 30.0000,E, grid, , , ,N
Point09,xy, 2108, 4633,in, deg, 53, 20.0000,N, 27, 15.0000,E, grid, , , ,N
Point10,xy, , ,in, deg, , ,N, , ,W, grid, , , ,N
Point11,xy, , ,in, deg, , ,N, , ,W, grid, , , ,N
Point12,xy, , ,in, deg, , ,N, , ,W, grid, , , ,N
Point13,xy, , ,in, deg, , ,N, , ,W, grid, , , ,N
Point14,xy, , ,in, deg, , ,N, , ,W, grid, , , ,N
Point15,xy, , ,in, deg, , ,N, , ,W, grid, , , ,N
Point16,xy, , ,in, deg, , ,N, , ,W, grid, , , ,N
Point17,xy, , ,in, deg, , ,N, , ,W, grid, , , ,N
Point18,xy, , ,in, deg, , ,N, , ,W, grid, , , ,N
Point19,xy, , ,in, deg, , ,N, , ,W, grid, , , ,N
Point20,xy, , ,in, deg, , ,N, , ,W, grid, , , ,N
Point21,xy, , ,in, deg, , ,N, , ,W, grid, , , ,N
Point22,xy, , ,in, deg, , ,N, , ,W, grid, , , ,N
Point23,xy, , ,in, deg, , ,N, , ,W, grid, , , ,N
Point24,xy, , ,in, deg, , ,N, , ,W, grid, , , ,N
Point25,xy, , ,in, deg, , ,N, , ,W, grid, , , ,N
Point26,xy, , ,in, deg, , ,N, , ,W, grid, , , ,N
Point27,xy, , ,in, deg, , ,N, , ,W, grid, , , ,N
Point28,xy, , ,in, deg, , ,N, , ,W, grid, , , ,N
Point29,xy, , ,in, deg, , ,N, , ,W, grid, , , ,N
Point30,xy, , ,in, deg, , ,N, , ,W, grid, , , ,N
Projection Setup, 0.000000000, 27.000000000, 1.000000000, 5500000.00, 0.00,,,,,
Map Feature = MF ; Map Comment = MC These follow if they exist
Track File = TF These follow if they exist
Moving Map Parameters = MM? These follow if they exist
MM0,Yes
MMPNUM,4
MMPXY,1,132,250
MMPXY,2,4067,247
MMPXY,3,4088,4627
MMPXY,4,123,4632
MMPLL,1,26.999983,53.666765
MMPLL,2,27.499961,53.666587
MMPLL,3,27.499773,53.333356
MMPLL,4,26.999919,53.333380
MM1B,8.395207
MOP,Map Open Position,0,0
IWH,Map Image Width/Height,4213,5068
