OziExplorer Map Data File Version 2.2
N-35-090 Ñòîëáöû
C:\strorry\Maps\Genshtab_1k\n-35-090.ozfx3
1 ,Map Code,
Pulkovo 1942 (1),WGS 84, 0.0000, 0.0000,WGS 84
Reserved 1
Reserved 2
Magnetic Variation,,,E
Map Projection,Transverse Mercator,PolyCal,No,AutoCalOnly,No,BSBUseWPX,No
Point01,xy, 137, 237,in, deg, 53, 40.0000,N, 26, 30.0000,E, grid, , , ,N
Point02,xy, 4078, 235,in, deg, 53, 40.0000,N, 27, 0.0000,E, grid, , , ,N
Point03,xy, 4093, 4626,in, deg, 53, 20.0000,N, 27, 0.0000,E, grid, , , ,N
Point04,xy, 125, 4624,in, deg, 53, 20.0000,N, 26, 30.0000,E, grid, , , ,N
Point05,xy, 2107, 2431,in, deg, 53, 30.0000,N, 26, 45.0000,E, grid, , , ,N
Point06,xy, 2109, 242,in, deg, 53, 40.0000,N, 26, 45.0000,E, grid, , , ,N
Point07,xy, 130, 2430,in, deg, 53, 30.0000,N, 26, 30.0000,E, grid, , , ,N
Point08,xy, 4088, 2431,in, deg, 53, 30.0000,N, 27, 0.0000,E, grid, , , ,N
Point09,xy, 2105, 4626,in, deg, 53, 20.0000,N, 26, 45.0000,E, grid, , , ,N
Point10,xy, , ,in, deg, , ,N, , ,W, grid, , , ,N
Point11,xy, , ,in, deg, , ,N, , ,W, grid, , , ,N
Point12,xy, , ,in, deg, , ,N, , ,W, grid, , , ,N
Point13,xy, , ,in, deg, , ,N, , ,W, grid, , , ,N
Point14,xy, , ,in, deg, , ,N, , ,W, grid, , , ,N
Point15,xy, , ,in, deg, , ,N, , ,W, grid, , , ,N
Point16,xy, , ,in, deg, , ,N, , ,W, grid, , , ,N
Point17,xy, , ,in, deg, , ,N, , ,W, grid, , , ,N
Point18,xy, , ,in, deg, , ,N, , ,W, grid, , , ,N
Point19,xy, , ,in, deg, , ,N, , ,W, grid, , , ,N
Point20,xy, , ,in, deg, , ,N, , ,W, grid, , , ,N
Point21,xy, , ,in, deg, , ,N, , ,W, grid, , , ,N
Point22,xy, , ,in, deg, , ,N, , ,W, grid, , , ,N
Point23,xy, , ,in, deg, , ,N, , ,W, grid, , , ,N
Point24,xy, , ,in, deg, , ,N, , ,W, grid, , , ,N
Point25,xy, , ,in, deg, , ,N, , ,W, grid, , , ,N
Point26,xy, , ,in, deg, , ,N, , ,W, grid, , , ,N
Point27,xy, , ,in, deg, , ,N, , ,W, grid, , , ,N
Point28,xy, , ,in, deg, , ,N, , ,W, grid, , , ,N
Point29,xy, , ,in, deg, , ,N, , ,W, grid, , , ,N
Point30,xy, , ,in, deg, , ,N, , ,W, grid, , , ,N
Projection Setup, 0.000000000, 27.000000000, 1.000000000, 5500000.00, 0.00,,,,,
Map Feature = MF ; Map Comment = MC These follow if they exist
Track File = TF These follow if they exist
Moving Map Parameters = MM? These follow if they exist
MM0,Yes
MMPNUM,4
MMPXY,1,137,237
MMPXY,2,4078,235
MMPXY,3,4093,4626
MMPXY,4,124,4623
MMPLL,1,26.499861,53.666615
MMPLL,2,26.999970,53.666796
MMPLL,3,26.999947,53.333181
MMPLL,4,26.500220,53.333386
MM1B,8.384590
MOP,Map Open Position,0,0
IWH,Map Image Width/Height,4220,5059
