OziExplorer Map Data File Version 2.2
N-35-089 Кореличи
C:\strorry\Maps\Genshtab_1k\n-35-089.ozfx3
1 ,Map Code,
Pulkovo 1942 (1),WGS 84, 0.0000, 0.0000,WGS 84
Reserved 1
Reserved 2
Magnetic Variation,,,E
Map Projection,Transverse Mercator,PolyCal,No,AutoCalOnly,No,BSBUseWPX,No
Point01,xy, 142, 250,in, deg, 53, 40.0000,N, 26, 0.0000,E, grid, , , ,N
Point02,xy, 4081, 253,in, deg, 53, 40.0000,N, 26, 30.0000,E, grid, , , ,N
Point03,xy, 4095, 4636,in, deg, 53, 20.0000,N, 26, 30.0000,E, grid, , , ,N
Point04,xy, 127, 4632,in, deg, 53, 20.0000,N, 26, 0.0000,E, grid, , , ,N
Point05,xy, 2112, 2444,in, deg, 53, 30.0000,N, 26, 15.0000,E, grid, , , ,N
Point06,xy, 2114, 255,in, deg, 53, 40.0000,N, 26, 15.0000,E, grid, , , ,N
Point07,xy, 134, 2440,in, deg, 53, 30.0000,N, 26, 0.0000,E, grid, , , ,N
Point08,xy, 4091, 2443,in, deg, 53, 30.0000,N, 26, 30.0000,E, grid, , , ,N
Point09,xy, 2111, 4636,in, deg, 53, 20.0000,N, 26, 15.0000,E, grid, , , ,N
Point10,xy, , ,in, deg, , ,N, , ,W, grid, , , ,N
Point11,xy, , ,in, deg, , ,N, , ,W, grid, , , ,N
Point12,xy, , ,in, deg, , ,N, , ,W, grid, , , ,N
Point13,xy, , ,in, deg, , ,N, , ,W, grid, , , ,N
Point14,xy, , ,in, deg, , ,N, , ,W, grid, , , ,N
Point15,xy, , ,in, deg, , ,N, , ,W, grid, , , ,N
Point16,xy, , ,in, deg, , ,N, , ,W, grid, , , ,N
Point17,xy, , ,in, deg, , ,N, , ,W, grid, , , ,N
Point18,xy, , ,in, deg, , ,N, , ,W, grid, , , ,N
Point19,xy, , ,in, deg, , ,N, , ,W, grid, , , ,N
Point20,xy, , ,in, deg, , ,N, , ,W, grid, , , ,N
Point21,xy, , ,in, deg, , ,N, , ,W, grid, , , ,N
Point22,xy, , ,in, deg, , ,N, , ,W, grid, , , ,N
Point23,xy, , ,in, deg, , ,N, , ,W, grid, , , ,N
Point24,xy, , ,in, deg, , ,N, , ,W, grid, , , ,N
Point25,xy, , ,in, deg, , ,N, , ,W, grid, , , ,N
Point26,xy, , ,in, deg, , ,N, , ,W, grid, , , ,N
Point27,xy, , ,in, deg, , ,N, , ,W, grid, , , ,N
Point28,xy, , ,in, deg, , ,N, , ,W, grid, , , ,N
Point29,xy, , ,in, deg, , ,N, , ,W, grid, , , ,N
Point30,xy, , ,in, deg, , ,N, , ,W, grid, , , ,N
Projection Setup, 0.000000000, 27.000000000, 1.000000000, 5500000.00, 0.00,,,,,
Map Feature = MF ; Map Comment = MC These follow if they exist
Track File = TF These follow if they exist
Moving Map Parameters = MM? These follow if they exist
MM0,Yes
MMPNUM,4
MMPXY,1,142,251
MMPXY,2,4081,252
MMPXY,3,4095,4636
MMPXY,4,128,4633
MMPLL,1,25.999876,53.666542
MMPLL,2,26.499857,53.666726
MMPLL,3,26.499835,53.333234
MMPLL,4,26.000235,53.333215
MM1B,8.386589
MOP,Map Open Position,0,0
IWH,Map Image Width/Height,4225,5051
