OziExplorer Map Data File Version 2.2
N-35-088 Новогрудок
C:\strorry\Maps\Genshtab_1k\n-35-088.ozfx3
1 ,Map Code,
Pulkovo 1942 (1),WGS 84, 0.0000, 0.0000,WGS 84
Reserved 1
Reserved 2
Magnetic Variation,,,E
Map Projection,Transverse Mercator,PolyCal,No,AutoCalOnly,No,BSBUseWPX,No
Point01,xy, 163, 255,in, deg, 53, 40.0000,N, 25, 30.0000,E, grid, , , ,N
Point02,xy, 4100, 256,in, deg, 53, 40.0000,N, 26, 0.0000,E, grid, , , ,N
Point03,xy, 4116, 4639,in, deg, 53, 20.0000,N, 26, 0.0000,E, grid, , , ,N
Point04,xy, 151, 4638,in, deg, 53, 20.0000,N, 25, 30.0000,E, grid, , , ,N
Point05,xy, 2135, 2450,in, deg, 53, 30.0000,N, 25, 45.0000,E, grid, , , ,N
Point06,xy, 2133, 260,in, deg, 53, 40.0000,N, 25, 45.0000,E, grid, , , ,N
Point07,xy, 158, 2450,in, deg, 53, 30.0000,N, 25, 30.0000,E, grid, , , ,N
Point08,xy, 4109, 2451,in, deg, 53, 30.0000,N, 26, 0.0000,E, grid, , , ,N
Point09,xy, 2131, 4639,in, deg, 53, 20.0000,N, 25, 45.0000,E, grid, , , ,N
Point10,xy, , ,in, deg, , ,N, , ,W, grid, , , ,N
Point11,xy, , ,in, deg, , ,N, , ,W, grid, , , ,N
Point12,xy, , ,in, deg, , ,N, , ,W, grid, , , ,N
Point13,xy, , ,in, deg, , ,N, , ,W, grid, , , ,N
Point14,xy, , ,in, deg, , ,N, , ,W, grid, , , ,N
Point15,xy, , ,in, deg, , ,N, , ,W, grid, , , ,N
Point16,xy, , ,in, deg, , ,N, , ,W, grid, , , ,N
Point17,xy, , ,in, deg, , ,N, , ,W, grid, , , ,N
Point18,xy, , ,in, deg, , ,N, , ,W, grid, , , ,N
Point19,xy, , ,in, deg, , ,N, , ,W, grid, , , ,N
Point20,xy, , ,in, deg, , ,N, , ,W, grid, , , ,N
Point21,xy, , ,in, deg, , ,N, , ,W, grid, , , ,N
Point22,xy, , ,in, deg, , ,N, , ,W, grid, , , ,N
Point23,xy, , ,in, deg, , ,N, , ,W, grid, , , ,N
Point24,xy, , ,in, deg, , ,N, , ,W, grid, , , ,N
Point25,xy, , ,in, deg, , ,N, , ,W, grid, , , ,N
Point26,xy, , ,in, deg, , ,N, , ,W, grid, , , ,N
Point27,xy, , ,in, deg, , ,N, , ,W, grid, , , ,N
Point28,xy, , ,in, deg, , ,N, , ,W, grid, , , ,N
Point29,xy, , ,in, deg, , ,N, , ,W, grid, , , ,N
Point30,xy, , ,in, deg, , ,N, , ,W, grid, , , ,N
Projection Setup, 0.000000000, 27.000000000, 1.000000000, 5500000.00, 0.00,,,,,
Map Feature = MF ; Map Comment = MC These follow if they exist
Track File = TF These follow if they exist
Moving Map Parameters = MM? These follow if they exist
MM0,Yes
MMPNUM,4
MMPXY,1,163,255
MMPXY,2,4100,255
MMPXY,3,4116,4638
MMPXY,4,151,4637
MMPLL,1,25.499769,53.666750
MMPLL,2,25.999962,53.666838
MMPLL,3,25.999941,53.333392
MMPLL,4,25.500128,53.333403
MM1B,8.393967
MOP,Map Open Position,0,0
IWH,Map Image Width/Height,4265,5073
