OziExplorer Map Data File Version 2.2
N-35-085 Скидель
C:\strorry\Maps\Genshtab_1k\n-35-085.ozfx3
1 ,Map Code,
Pulkovo 1942 (1),WGS 84, 0.0000, 0.0000,WGS 84
Reserved 1
Reserved 2
Magnetic Variation,,,E
Map Projection,Transverse Mercator,PolyCal,No,AutoCalOnly,No,BSBUseWPX,No
Point01,xy, 157, 246,in, deg, 53, 40.0000,N, 24, 0.0000,E, grid, , , ,N
Point02,xy, 4099, 245,in, deg, 53, 40.0000,N, 24, 30.0000,E, grid, , , ,N
Point03,xy, 4120, 4630,in, deg, 53, 20.0000,N, 24, 30.0000,E, grid, , , ,N
Point04,xy, 152, 4634,in, deg, 53, 20.0000,N, 24, 0.0000,E, grid, , , ,N
Point05,xy, 2131, 2442,in, deg, 53, 30.0000,N, 24, 15.0000,E, grid, , , ,N
Point06,xy, 2126, 248,in, deg, 53, 40.0000,N, 24, 15.0000,E, grid, , , ,N
Point07,xy, 152, 2439,in, deg, 53, 30.0000,N, 24, 0.0000,E, grid, , , ,N
Point08,xy, 4111, 2439,in, deg, 53, 30.0000,N, 24, 30.0000,E, grid, , , ,N
Point09,xy, 2135, 4637,in, deg, 53, 20.0000,N, 24, 15.0000,E, grid, , , ,N
Point10,xy, , ,in, deg, , ,N, , ,W, grid, , , ,N
Point11,xy, , ,in, deg, , ,N, , ,W, grid, , , ,N
Point12,xy, , ,in, deg, , ,N, , ,W, grid, , , ,N
Point13,xy, , ,in, deg, , ,N, , ,W, grid, , , ,N
Point14,xy, , ,in, deg, , ,N, , ,W, grid, , , ,N
Point15,xy, , ,in, deg, , ,N, , ,W, grid, , , ,N
Point16,xy, , ,in, deg, , ,N, , ,W, grid, , , ,N
Point17,xy, , ,in, deg, , ,N, , ,W, grid, , , ,N
Point18,xy, , ,in, deg, , ,N, , ,W, grid, , , ,N
Point19,xy, , ,in, deg, , ,N, , ,W, grid, , , ,N
Point20,xy, , ,in, deg, , ,N, , ,W, grid, , , ,N
Point21,xy, , ,in, deg, , ,N, , ,W, grid, , , ,N
Point22,xy, , ,in, deg, , ,N, , ,W, grid, , , ,N
Point23,xy, , ,in, deg, , ,N, , ,W, grid, , , ,N
Point24,xy, , ,in, deg, , ,N, , ,W, grid, , , ,N
Point25,xy, , ,in, deg, , ,N, , ,W, grid, , , ,N
Point26,xy, , ,in, deg, , ,N, , ,W, grid, , , ,N
Point27,xy, , ,in, deg, , ,N, , ,W, grid, , , ,N
Point28,xy, , ,in, deg, , ,N, , ,W, grid, , , ,N
Point29,xy, , ,in, deg, , ,N, , ,W, grid, , , ,N
Point30,xy, , ,in, deg, , ,N, , ,W, grid, , , ,N
Projection Setup, 0.000000000, 27.000000000, 1.000000000, 5500000.00, 0.00,,,,,
Map Feature = MF ; Map Comment = MC These follow if they exist
Track File = TF These follow if they exist
Moving Map Parameters = MM? These follow if they exist
MM0,Yes
MMPNUM,4
MMPXY,1,157,246
MMPXY,2,4099,245
MMPXY,3,4120,4630
MMPXY,4,151,4634
MMPLL,1,24.000014,53.666655
MMPLL,2,24.500167,53.666629
MMPLL,3,24.499807,53.333448
MMPLL,4,24.000165,53.333296
MM1B,8.380236
MOP,Map Open Position,0,0
IWH,Map Image Width/Height,4272,5053
