OziExplorer Map Data File Version 2.2
N-35-084 Белыничи
C:\strorry\Maps\Genshtab_1k\n-35-084.ozfx3
1 ,Map Code,
Pulkovo 1942 (1),WGS 84, 0.0000, 0.0000,WGS 84
Reserved 1
Reserved 2
Magnetic Variation,,,E
Map Projection,Transverse Mercator,PolyCal,No,AutoCalOnly,No,BSBUseWPX,No
Point01,xy, 166, 264,in, deg, 54, 0.0000,N, 29, 30.0000,E, grid, , , ,N
Point02,xy, 4074, 263,in, deg, 54, 0.0000,N, 30, 0.0000,E, grid, , , ,N
Point03,xy, 4092, 4654,in, deg, 53, 40.0000,N, 30, 0.0000,E, grid, , , ,N
Point04,xy, 152, 4655,in, deg, 53, 40.0000,N, 29, 30.0000,E, grid, , , ,N
Point05,xy, 2120, 2462,in, deg, 53, 50.0000,N, 29, 45.0000,E, grid, , , ,N
Point06,xy, 2118, 267,in, deg, 54, 0.0000,N, 29, 45.0000,E, grid, , , ,N
Point07,xy, 159, 2462,in, deg, 53, 50.0000,N, 29, 30.0000,E, grid, , , ,N
Point08,xy, 4085, 2458,in, deg, 53, 50.0000,N, 30, 0.0000,E, grid, , , ,N
Point09,xy, 2126, 4656,in, deg, 53, 40.0000,N, 29, 45.0000,E, grid, , , ,N
Point10,xy, , ,in, deg, , ,N, , ,W, grid, , , ,N
Point11,xy, , ,in, deg, , ,N, , ,W, grid, , , ,N
Point12,xy, , ,in, deg, , ,N, , ,W, grid, , , ,N
Point13,xy, , ,in, deg, , ,N, , ,W, grid, , , ,N
Point14,xy, , ,in, deg, , ,N, , ,W, grid, , , ,N
Point15,xy, , ,in, deg, , ,N, , ,W, grid, , , ,N
Point16,xy, , ,in, deg, , ,N, , ,W, grid, , , ,N
Point17,xy, , ,in, deg, , ,N, , ,W, grid, , , ,N
Point18,xy, , ,in, deg, , ,N, , ,W, grid, , , ,N
Point19,xy, , ,in, deg, , ,N, , ,W, grid, , , ,N
Point20,xy, , ,in, deg, , ,N, , ,W, grid, , , ,N
Point21,xy, , ,in, deg, , ,N, , ,W, grid, , , ,N
Point22,xy, , ,in, deg, , ,N, , ,W, grid, , , ,N
Point23,xy, , ,in, deg, , ,N, , ,W, grid, , , ,N
Point24,xy, , ,in, deg, , ,N, , ,W, grid, , , ,N
Point25,xy, , ,in, deg, , ,N, , ,W, grid, , , ,N
Point26,xy, , ,in, deg, , ,N, , ,W, grid, , , ,N
Point27,xy, , ,in, deg, , ,N, , ,W, grid, , , ,N
Point28,xy, , ,in, deg, , ,N, , ,W, grid, , , ,N
Point29,xy, , ,in, deg, , ,N, , ,W, grid, , , ,N
Point30,xy, , ,in, deg, , ,N, , ,W, grid, , , ,N
Projection Setup, 0.000000000, 27.000000000, 1.000000000, 5500000.00, 0.00,,,,,
Map Feature = MF ; Map Comment = MC These follow if they exist
Track File = TF These follow if they exist
Moving Map Parameters = MM? These follow if they exist
MM0,Yes
MMPNUM,4
MMPXY,1,166,264
MMPXY,2,4073,263
MMPXY,3,4093,4654
MMPXY,4,152,4654
MMPLL,1,29.500154,54.000072
MMPLL,2,29.999890,53.999973
MMPLL,3,29.999942,53.666612
MMPLL,4,29.499848,53.666740
MM1B,8.381631
MOP,Map Open Position,0,0
IWH,Map Image Width/Height,4246,5096
