OziExplorer Map Data File Version 2.2
N-35-083 Погост
C:\strorry\Maps\Genshtab_1k\n-35-083.ozfx3
1 ,Map Code,
Pulkovo 1942 (1),WGS 84, 0.0000, 0.0000,WGS 84
Reserved 1
Reserved 2
Magnetic Variation,,,E
Map Projection,Transverse Mercator,PolyCal,No,AutoCalOnly,No,BSBUseWPX,No
Point01,xy, 170, 260,in, deg, 54, 0.0000,N, 29, 0.0000,E, grid, , , ,N
Point02,xy, 4082, 264,in, deg, 54, 0.0000,N, 29, 30.0000,E, grid, , , ,N
Point03,xy, 4093, 4662,in, deg, 53, 40.0000,N, 29, 30.0000,E, grid, , , ,N
Point04,xy, 154, 4652,in, deg, 53, 40.0000,N, 29, 0.0000,E, grid, , , ,N
Point05,xy, 2125, 2466,in, deg, 53, 50.0000,N, 29, 15.0000,E, grid, , , ,N
Point06,xy, 2125, 267,in, deg, 54, 0.0000,N, 29, 15.0000,E, grid, , , ,N
Point07,xy, 162, 2454,in, deg, 53, 50.0000,N, 29, 0.0000,E, grid, , , ,N
Point08,xy, 4090, 2464,in, deg, 53, 50.0000,N, 29, 30.0000,E, grid, , , ,N
Point09,xy, 2124, 4658,in, deg, 53, 40.0000,N, 29, 15.0000,E, grid, , , ,N
Point10,xy, , ,in, deg, , ,N, , ,W, grid, , , ,N
Point11,xy, , ,in, deg, , ,N, , ,W, grid, , , ,N
Point12,xy, , ,in, deg, , ,N, , ,W, grid, , , ,N
Point13,xy, , ,in, deg, , ,N, , ,W, grid, , , ,N
Point14,xy, , ,in, deg, , ,N, , ,W, grid, , , ,N
Point15,xy, , ,in, deg, , ,N, , ,W, grid, , , ,N
Point16,xy, , ,in, deg, , ,N, , ,W, grid, , , ,N
Point17,xy, , ,in, deg, , ,N, , ,W, grid, , , ,N
Point18,xy, , ,in, deg, , ,N, , ,W, grid, , , ,N
Point19,xy, , ,in, deg, , ,N, , ,W, grid, , , ,N
Point20,xy, , ,in, deg, , ,N, , ,W, grid, , , ,N
Point21,xy, , ,in, deg, , ,N, , ,W, grid, , , ,N
Point22,xy, , ,in, deg, , ,N, , ,W, grid, , , ,N
Point23,xy, , ,in, deg, , ,N, , ,W, grid, , , ,N
Point24,xy, , ,in, deg, , ,N, , ,W, grid, , , ,N
Point25,xy, , ,in, deg, , ,N, , ,W, grid, , , ,N
Point26,xy, , ,in, deg, , ,N, , ,W, grid, , , ,N
Point27,xy, , ,in, deg, , ,N, , ,W, grid, , , ,N
Point28,xy, , ,in, deg, , ,N, , ,W, grid, , , ,N
Point29,xy, , ,in, deg, , ,N, , ,W, grid, , , ,N
Point30,xy, , ,in, deg, , ,N, , ,W, grid, , , ,N
Projection Setup, 0.000000000, 27.000000000, 1.000000000, 5500000.00, 0.00,,,,,
Map Feature = MF ; Map Comment = MC These follow if they exist
Track File = TF These follow if they exist
Moving Map Parameters = MM? These follow if they exist
MM0,Yes
MMPNUM,4
MMPXY,1,170,260
MMPXY,2,4082,263
MMPXY,3,4093,4662
MMPXY,4,152,4652
MMPLL,1,28.999920,53.999919
MMPLL,2,29.500084,54.000277
MMPLL,3,29.499752,53.666561
MMPLL,4,28.999868,53.666689
MM1B,8.378339
MOP,Map Open Position,0,0
IWH,Map Image Width/Height,4247,5103
