OziExplorer Map Data File Version 2.2
N-35-082 Березино
C:\strorry\Maps\Genshtab_1k\n-35-082.ozfx3
1 ,Map Code,
Pulkovo 1942 (1),WGS 84, 0.0000, 0.0000,WGS 84
Reserved 1
Reserved 2
Magnetic Variation,,,E
Map Projection,Transverse Mercator,PolyCal,No,AutoCalOnly,No,BSBUseWPX,No
Point01,xy, 167, 257,in, deg, 54, 0.0000,N, 28, 30.0000,E, grid, , , ,N
Point02,xy, 4075, 259,in, deg, 54, 0.0000,N, 29, 0.0000,E, grid, , , ,N
Point03,xy, 4085, 4649,in, deg, 53, 40.0000,N, 29, 0.0000,E, grid, , , ,N
Point04,xy, 149, 4645,in, deg, 53, 40.0000,N, 28, 30.0000,E, grid, , , ,N
Point05,xy, 2119, 2458,in, deg, 53, 50.0000,N, 28, 45.0000,E, grid, , , ,N
Point06,xy, 2122, 265,in, deg, 54, 0.0000,N, 28, 45.0000,E, grid, , , ,N
Point07,xy, 158, 2450,in, deg, 53, 50.0000,N, 28, 30.0000,E, grid, , , ,N
Point08,xy, 4083, 2454,in, deg, 53, 50.0000,N, 29, 0.0000,E, grid, , , ,N
Point09,xy, 2117, 4651,in, deg, 53, 40.0000,N, 28, 45.0000,E, grid, , , ,N
Point10,xy, , ,in, deg, , ,N, , ,W, grid, , , ,N
Point11,xy, , ,in, deg, , ,N, , ,W, grid, , , ,N
Point12,xy, , ,in, deg, , ,N, , ,W, grid, , , ,N
Point13,xy, , ,in, deg, , ,N, , ,W, grid, , , ,N
Point14,xy, , ,in, deg, , ,N, , ,W, grid, , , ,N
Point15,xy, , ,in, deg, , ,N, , ,W, grid, , , ,N
Point16,xy, , ,in, deg, , ,N, , ,W, grid, , , ,N
Point17,xy, , ,in, deg, , ,N, , ,W, grid, , , ,N
Point18,xy, , ,in, deg, , ,N, , ,W, grid, , , ,N
Point19,xy, , ,in, deg, , ,N, , ,W, grid, , , ,N
Point20,xy, , ,in, deg, , ,N, , ,W, grid, , , ,N
Point21,xy, , ,in, deg, , ,N, , ,W, grid, , , ,N
Point22,xy, , ,in, deg, , ,N, , ,W, grid, , , ,N
Point23,xy, , ,in, deg, , ,N, , ,W, grid, , , ,N
Point24,xy, , ,in, deg, , ,N, , ,W, grid, , , ,N
Point25,xy, , ,in, deg, , ,N, , ,W, grid, , , ,N
Point26,xy, , ,in, deg, , ,N, , ,W, grid, , , ,N
Point27,xy, , ,in, deg, , ,N, , ,W, grid, , , ,N
Point28,xy, , ,in, deg, , ,N, , ,W, grid, , , ,N
Point29,xy, , ,in, deg, , ,N, , ,W, grid, , , ,N
Point30,xy, , ,in, deg, , ,N, , ,W, grid, , , ,N
Projection Setup, 0.000000000, 27.000000000, 1.000000000, 5500000.00, 0.00,,,,,
Map Feature = MF ; Map Comment = MC These follow if they exist
Track File = TF These follow if they exist
Moving Map Parameters = MM? These follow if they exist
MM0,Yes
MMPNUM,4
MMPXY,1,167,258
MMPXY,2,4075,259
MMPXY,3,4086,4649
MMPXY,4,149,4643
MMPLL,1,28.499885,53.999963
MMPLL,2,28.999960,54.000124
MMPLL,3,28.999929,53.666655
MMPLL,4,28.500127,53.666841
MM1B,8.386600
MOP,Map Open Position,0,0
IWH,Map Image Width/Height,4239,5094
