OziExplorer Map Data File Version 2.2
N-35-079 Äçåðæèíñê
C:\strorry\Maps\Genshtab_1k\n-35-079.ozfx3
1 ,Map Code,
Pulkovo 1942 (1),WGS 84, 0.0000, 0.0000,WGS 84
Reserved 1
Reserved 2
Magnetic Variation,,,E
Map Projection,Transverse Mercator,PolyCal,No,AutoCalOnly,No,BSBUseWPX,No
Point01,xy, 140, 245,in, deg, 54, 0.0000,N, 27, 0.0000,E, grid, , , ,N
Point02,xy, 4050, 244,in, deg, 54, 0.0000,N, 27, 30.0000,E, grid, , , ,N
Point03,xy, 4070, 4635,in, deg, 53, 40.0000,N, 27, 30.0000,E, grid, , , ,N
Point04,xy, 126, 4634,in, deg, 53, 40.0000,N, 27, 0.0000,E, grid, , , ,N
Point05,xy, 2097, 2443,in, deg, 53, 50.0000,N, 27, 15.0000,E, grid, , , ,N
Point06,xy, 2096, 246,in, deg, 54, 0.0000,N, 27, 15.0000,E, grid, , , ,N
Point07,xy, 134, 2439,in, deg, 53, 50.0000,N, 27, 0.0000,E, grid, , , ,N
Point08,xy, 4061, 2439,in, deg, 53, 50.0000,N, 27, 30.0000,E, grid, , , ,N
Point09,xy, 2098, 4639,in, deg, 53, 40.0000,N, 27, 15.0000,E, grid, , , ,N
Point10,xy, , ,in, deg, , ,N, , ,W, grid, , , ,N
Point11,xy, , ,in, deg, , ,N, , ,W, grid, , , ,N
Point12,xy, , ,in, deg, , ,N, , ,W, grid, , , ,N
Point13,xy, , ,in, deg, , ,N, , ,W, grid, , , ,N
Point14,xy, , ,in, deg, , ,N, , ,W, grid, , , ,N
Point15,xy, , ,in, deg, , ,N, , ,W, grid, , , ,N
Point16,xy, , ,in, deg, , ,N, , ,W, grid, , , ,N
Point17,xy, , ,in, deg, , ,N, , ,W, grid, , , ,N
Point18,xy, , ,in, deg, , ,N, , ,W, grid, , , ,N
Point19,xy, , ,in, deg, , ,N, , ,W, grid, , , ,N
Point20,xy, , ,in, deg, , ,N, , ,W, grid, , , ,N
Point21,xy, , ,in, deg, , ,N, , ,W, grid, , , ,N
Point22,xy, , ,in, deg, , ,N, , ,W, grid, , , ,N
Point23,xy, , ,in, deg, , ,N, , ,W, grid, , , ,N
Point24,xy, , ,in, deg, , ,N, , ,W, grid, , , ,N
Point25,xy, , ,in, deg, , ,N, , ,W, grid, , , ,N
Point26,xy, , ,in, deg, , ,N, , ,W, grid, , , ,N
Point27,xy, , ,in, deg, , ,N, , ,W, grid, , , ,N
Point28,xy, , ,in, deg, , ,N, , ,W, grid, , , ,N
Point29,xy, , ,in, deg, , ,N, , ,W, grid, , , ,N
Point30,xy, , ,in, deg, , ,N, , ,W, grid, , , ,N
Projection Setup, 0.000000000, 27.000000000, 1.000000000, 5500000.00, 0.00,,,,,
Map Feature = MF ; Map Comment = MC These follow if they exist
Track File = TF These follow if they exist
Moving Map Parameters = MM? These follow if they exist
MM0,Yes
MMPNUM,4
MMPXY,1,140,245
MMPXY,2,4051,244
MMPXY,3,4069,4635
MMPXY,4,126,4634
MMPLL,1,27.000020,53.999909
MMPLL,2,27.499967,53.999983
MMPLL,3,27.499935,53.666652
MMPLL,4,26.999882,53.666725
MM1B,8.379385
MOP,Map Open Position,0,0
IWH,Map Image Width/Height,4196,5070
