OziExplorer Map Data File Version 2.2
N-35-077 Ëþá÷à
C:\strorry\Maps\Genshtab_1k\n-35-077.ozfx3
1 ,Map Code,
Pulkovo 1942 (1),WGS 84, 0.0000, 0.0000,WGS 84
Reserved 1
Reserved 2
Magnetic Variation,,,E
Map Projection,Transverse Mercator,PolyCal,No,AutoCalOnly,No,BSBUseWPX,No
Point01,xy, 138, 260,in, deg, 54, 0.0000,N, 26, 0.0000,E, grid, , , ,N
Point02,xy, 4048, 260,in, deg, 54, 0.0000,N, 26, 30.0000,E, grid, , , ,N
Point03,xy, 4062, 4650,in, deg, 53, 40.0000,N, 26, 30.0000,E, grid, , , ,N
Point04,xy, 124, 4653,in, deg, 53, 40.0000,N, 26, 0.0000,E, grid, , , ,N
Point05,xy, 2094, 2463,in, deg, 53, 50.0000,N, 26, 15.0000,E, grid, , , ,N
Point06,xy, 2094, 266,in, deg, 54, 0.0000,N, 26, 15.0000,E, grid, , , ,N
Point07,xy, 132, 2457,in, deg, 53, 50.0000,N, 26, 0.0000,E, grid, , , ,N
Point08,xy, 4055, 2455,in, deg, 53, 50.0000,N, 26, 30.0000,E, grid, , , ,N
Point09,xy, 2092, 4655,in, deg, 53, 40.0000,N, 26, 15.0000,E, grid, , , ,N
Point10,xy, , ,in, deg, , ,N, , ,W, grid, , , ,N
Point11,xy, , ,in, deg, , ,N, , ,W, grid, , , ,N
Point12,xy, , ,in, deg, , ,N, , ,W, grid, , , ,N
Point13,xy, , ,in, deg, , ,N, , ,W, grid, , , ,N
Point14,xy, , ,in, deg, , ,N, , ,W, grid, , , ,N
Point15,xy, , ,in, deg, , ,N, , ,W, grid, , , ,N
Point16,xy, , ,in, deg, , ,N, , ,W, grid, , , ,N
Point17,xy, , ,in, deg, , ,N, , ,W, grid, , , ,N
Point18,xy, , ,in, deg, , ,N, , ,W, grid, , , ,N
Point19,xy, , ,in, deg, , ,N, , ,W, grid, , , ,N
Point20,xy, , ,in, deg, , ,N, , ,W, grid, , , ,N
Point21,xy, , ,in, deg, , ,N, , ,W, grid, , , ,N
Point22,xy, , ,in, deg, , ,N, , ,W, grid, , , ,N
Point23,xy, , ,in, deg, , ,N, , ,W, grid, , , ,N
Point24,xy, , ,in, deg, , ,N, , ,W, grid, , , ,N
Point25,xy, , ,in, deg, , ,N, , ,W, grid, , , ,N
Point26,xy, , ,in, deg, , ,N, , ,W, grid, , , ,N
Point27,xy, , ,in, deg, , ,N, , ,W, grid, , , ,N
Point28,xy, , ,in, deg, , ,N, , ,W, grid, , , ,N
Point29,xy, , ,in, deg, , ,N, , ,W, grid, , , ,N
Point30,xy, , ,in, deg, , ,N, , ,W, grid, , , ,N
Projection Setup, 0.000000000, 27.000000000, 1.000000000, 5500000.00, 0.00,,,,,
Map Feature = MF ; Map Comment = MC These follow if they exist
Track File = TF These follow if they exist
Moving Map Parameters = MM? These follow if they exist
MM0,Yes
MMPNUM,4
MMPXY,1,138,260
MMPXY,2,4048,260
MMPXY,3,4063,4651
MMPXY,4,136,4653
MMPLL,1,25.999805,54.000149
MMPLL,2,26.500052,54.000030
MMPLL,3,26.500062,53.666664
MMPLL,4,26.001615,53.666649
MM1B,8.386289
MOP,Map Open Position,0,0
IWH,Map Image Width/Height,4186,5086
