OziExplorer Map Data File Version 2.2
N-35-075 Ëèäà
C:\strorry\Maps\Genshtab_1k\n-35-075.ozfx3
1 ,Map Code,
Pulkovo 1942 (1),WGS 84, 0.0000, 0.0000,WGS 84
Reserved 1
Reserved 2
Magnetic Variation,,,E
Map Projection,Transverse Mercator,PolyCal,No,AutoCalOnly,No,BSBUseWPX,No
Point01,xy, 175, 245,in, deg, 54, 0.0000,N, 25, 0.0000,E, grid, , , ,N
Point02,xy, 4084, 246,in, deg, 54, 0.0000,N, 25, 30.0000,E, grid, , , ,N
Point03,xy, 4099, 4647,in, deg, 53, 40.0000,N, 25, 30.0000,E, grid, , , ,N
Point04,xy, 159, 4645,in, deg, 53, 40.0000,N, 25, 0.0000,E, grid, , , ,N
Point05,xy, 2130, 2451,in, deg, 53, 50.0000,N, 25, 15.0000,E, grid, , , ,N
Point06,xy, 2130, 249,in, deg, 54, 0.0000,N, 25, 15.0000,E, grid, , , ,N
Point07,xy, 166, 2448,in, deg, 53, 50.0000,N, 25, 0.0000,E, grid, , , ,N
Point08,xy, 4094, 2447,in, deg, 53, 50.0000,N, 25, 30.0000,E, grid, , , ,N
Point09,xy, 2129, 4650,in, deg, 53, 40.0000,N, 25, 15.0000,E, grid, , , ,N
Point10,xy, , ,in, deg, , ,N, , ,W, grid, , , ,N
Point11,xy, , ,in, deg, , ,N, , ,W, grid, , , ,N
Point12,xy, , ,in, deg, , ,N, , ,W, grid, , , ,N
Point13,xy, , ,in, deg, , ,N, , ,W, grid, , , ,N
Point14,xy, , ,in, deg, , ,N, , ,W, grid, , , ,N
Point15,xy, , ,in, deg, , ,N, , ,W, grid, , , ,N
Point16,xy, , ,in, deg, , ,N, , ,W, grid, , , ,N
Point17,xy, , ,in, deg, , ,N, , ,W, grid, , , ,N
Point18,xy, , ,in, deg, , ,N, , ,W, grid, , , ,N
Point19,xy, , ,in, deg, , ,N, , ,W, grid, , , ,N
Point20,xy, , ,in, deg, , ,N, , ,W, grid, , , ,N
Point21,xy, , ,in, deg, , ,N, , ,W, grid, , , ,N
Point22,xy, , ,in, deg, , ,N, , ,W, grid, , , ,N
Point23,xy, , ,in, deg, , ,N, , ,W, grid, , , ,N
Point24,xy, , ,in, deg, , ,N, , ,W, grid, , , ,N
Point25,xy, , ,in, deg, , ,N, , ,W, grid, , , ,N
Point26,xy, , ,in, deg, , ,N, , ,W, grid, , , ,N
Point27,xy, , ,in, deg, , ,N, , ,W, grid, , , ,N
Point28,xy, , ,in, deg, , ,N, , ,W, grid, , , ,N
Point29,xy, , ,in, deg, , ,N, , ,W, grid, , , ,N
Point30,xy, , ,in, deg, , ,N, , ,W, grid, , , ,N
Projection Setup, 0.000000000, 27.000000000, 1.000000000, 5500000.00, 0.00,,,,,
Map Feature = MF ; Map Comment = MC These follow if they exist
Track File = TF These follow if they exist
Moving Map Parameters = MM? These follow if they exist
MM0,Yes
MMPNUM,4
MMPXY,1,175,245
MMPXY,2,4085,246
MMPXY,3,4099,4647
MMPXY,4,159,4645
MMPLL,1,25.000018,54.000048
MMPLL,2,25.500009,54.000038
MMPLL,3,25.499892,53.666664
MMPLL,4,25.000050,53.666780
MM1B,8.381114
MOP,Map Open Position,0,0
IWH,Map Image Width/Height,4257,5082
