OziExplorer Map Data File Version 2.2
N-35-070 Борисов
C:\strorry\Maps\Genshtab_1k\n-35-070.ozfx3
1 ,Map Code,
Pulkovo 1942 (1),WGS 84, 0.0000, 0.0000,WGS 84
Reserved 1
Reserved 2
Magnetic Variation,,,E
Map Projection,Transverse Mercator,PolyCal,No,AutoCalOnly,No,BSBUseWPX,No
Point01,xy, 170, 260,in, deg, 54, 20.0000,N, 28, 30.0000,E, grid, , , ,N
Point02,xy, 4045, 264,in, deg, 54, 20.0000,N, 29, 0.0000,E, grid, , , ,N
Point03,xy, 4057, 4651,in, deg, 54, 0.0000,N, 29, 0.0000,E, grid, , , ,N
Point04,xy, 150, 4643,in, deg, 54, 0.0000,N, 28, 30.0000,E, grid, , , ,N
Point05,xy, 2103, 2457,in, deg, 54, 10.0000,N, 28, 45.0000,E, grid, , , ,N
Point06,xy, 2105, 263,in, deg, 54, 20.0000,N, 28, 45.0000,E, grid, , , ,N
Point07,xy, 160, 2454,in, deg, 54, 10.0000,N, 28, 30.0000,E, grid, , , ,N
Point08,xy, 4050, 2456,in, deg, 54, 10.0000,N, 29, 0.0000,E, grid, , , ,N
Point09,xy, 2104, 4654,in, deg, 54, 0.0000,N, 28, 45.0000,E, grid, , , ,N
Point10,xy, , ,in, deg, , ,N, , ,W, grid, , , ,N
Point11,xy, , ,in, deg, , ,N, , ,W, grid, , , ,N
Point12,xy, , ,in, deg, , ,N, , ,W, grid, , , ,N
Point13,xy, , ,in, deg, , ,N, , ,W, grid, , , ,N
Point14,xy, , ,in, deg, , ,N, , ,W, grid, , , ,N
Point15,xy, , ,in, deg, , ,N, , ,W, grid, , , ,N
Point16,xy, , ,in, deg, , ,N, , ,W, grid, , , ,N
Point17,xy, , ,in, deg, , ,N, , ,W, grid, , , ,N
Point18,xy, , ,in, deg, , ,N, , ,W, grid, , , ,N
Point19,xy, , ,in, deg, , ,N, , ,W, grid, , , ,N
Point20,xy, , ,in, deg, , ,N, , ,W, grid, , , ,N
Point21,xy, , ,in, deg, , ,N, , ,W, grid, , , ,N
Point22,xy, , ,in, deg, , ,N, , ,W, grid, , , ,N
Point23,xy, , ,in, deg, , ,N, , ,W, grid, , , ,N
Point24,xy, , ,in, deg, , ,N, , ,W, grid, , , ,N
Point25,xy, , ,in, deg, , ,N, , ,W, grid, , , ,N
Point26,xy, , ,in, deg, , ,N, , ,W, grid, , , ,N
Point27,xy, , ,in, deg, , ,N, , ,W, grid, , , ,N
Point28,xy, , ,in, deg, , ,N, , ,W, grid, , , ,N
Point29,xy, , ,in, deg, , ,N, , ,W, grid, , , ,N
Point30,xy, , ,in, deg, , ,N, , ,W, grid, , , ,N
Projection Setup, 0.000000000, 27.000000000, 1.000000000, 5500000.00, 0.00,,,,,
Map Feature = MF ; Map Comment = MC These follow if they exist
Track File = TF These follow if they exist
Moving Map Parameters = MM? These follow if they exist
MM0,Yes
MMPNUM,4
MMPXY,1,170,260
MMPXY,2,4045,263
MMPXY,3,4057,4651
MMPXY,4,150,4644
MMPLL,1,28.500146,54.333251
MMPLL,2,29.000143,54.333360
MMPLL,3,29.000059,53.999967
MMPLL,4,28.499969,54.000128
MM1B,8.388881
MOP,Map Open Position,0,0
IWH,Map Image Width/Height,4249,5095
