OziExplorer Map Data File Version 2.2
N-35-068 Логойск
C:\strorry\Maps\Genshtab_1k\n-35-068.ozfx3
1 ,Map Code,
Pulkovo 1942 (1),WGS 84, 0.0000, 0.0000,WGS 84
Reserved 1
Reserved 2
Magnetic Variation,,,E
Map Projection,Transverse Mercator,PolyCal,No,AutoCalOnly,No,BSBUseWPX,No
Point01,xy, 132, 246,in, deg, 54, 20.0000,N, 27, 30.0000,E, grid, , , ,N
Point02,xy, 4009, 243,in, deg, 54, 20.0000,N, 28, 0.0000,E, grid, , , ,N
Point03,xy, 4030, 4630,in, deg, 54, 0.0000,N, 28, 0.0000,E, grid, , , ,N
Point04,xy, 123, 4632,in, deg, 54, 0.0000,N, 27, 30.0000,E, grid, , , ,N
Point05,xy, 2074, 2442,in, deg, 54, 10.0000,N, 27, 45.0000,E, grid, , , ,N
Point06,xy, 2070, 248,in, deg, 54, 20.0000,N, 27, 45.0000,E, grid, , , ,N
Point07,xy, 127, 2440,in, deg, 54, 10.0000,N, 27, 30.0000,E, grid, , , ,N
Point08,xy, 4021, 2435,in, deg, 54, 10.0000,N, 28, 0.0000,E, grid, , , ,N
Point09,xy, 2080, 4635,in, deg, 54, 0.0000,N, 27, 45.0000,E, grid, , , ,N
Point10,xy, , ,in, deg, , ,N, , ,W, grid, , , ,N
Point11,xy, , ,in, deg, , ,N, , ,W, grid, , , ,N
Point12,xy, , ,in, deg, , ,N, , ,W, grid, , , ,N
Point13,xy, , ,in, deg, , ,N, , ,W, grid, , , ,N
Point14,xy, , ,in, deg, , ,N, , ,W, grid, , , ,N
Point15,xy, , ,in, deg, , ,N, , ,W, grid, , , ,N
Point16,xy, , ,in, deg, , ,N, , ,W, grid, , , ,N
Point17,xy, , ,in, deg, , ,N, , ,W, grid, , , ,N
Point18,xy, , ,in, deg, , ,N, , ,W, grid, , , ,N
Point19,xy, , ,in, deg, , ,N, , ,W, grid, , , ,N
Point20,xy, , ,in, deg, , ,N, , ,W, grid, , , ,N
Point21,xy, , ,in, deg, , ,N, , ,W, grid, , , ,N
Point22,xy, , ,in, deg, , ,N, , ,W, grid, , , ,N
Point23,xy, , ,in, deg, , ,N, , ,W, grid, , , ,N
Point24,xy, , ,in, deg, , ,N, , ,W, grid, , , ,N
Point25,xy, , ,in, deg, , ,N, , ,W, grid, , , ,N
Point26,xy, , ,in, deg, , ,N, , ,W, grid, , , ,N
Point27,xy, , ,in, deg, , ,N, , ,W, grid, , , ,N
Point28,xy, , ,in, deg, , ,N, , ,W, grid, , , ,N
Point29,xy, , ,in, deg, , ,N, , ,W, grid, , , ,N
Point30,xy, , ,in, deg, , ,N, , ,W, grid, , , ,N
Projection Setup, 0.000000000, 27.000000000, 1.000000000, 5500000.00, 0.00,,,,,
Map Feature = MF ; Map Comment = MC These follow if they exist
Track File = TF These follow if they exist
Moving Map Parameters = MM? These follow if they exist
MM0,Yes
MMPNUM,4
MMPXY,1,132,246
MMPXY,2,4010,243
MMPXY,3,4030,4630
MMPXY,4,123,4631
MMPLL,1,27.500023,54.333350
MMPLL,2,28.000150,54.333319
MMPLL,3,27.999767,53.999967
MMPLL,4,27.499934,54.000138
MM1B,8.385902
MOP,Map Open Position,0,0
IWH,Map Image Width/Height,4152,5075
