OziExplorer Map Data File Version 2.2
N-35-063 Вороново
C:\strorry\Maps\Genshtab_1k\n-35-063.ozfx3
1 ,Map Code,
Pulkovo 1942 (1),WGS 84, 0.0000, 0.0000,WGS 84
Reserved 1
Reserved 2
Magnetic Variation,,,E
Map Projection,Transverse Mercator,PolyCal,No,AutoCalOnly,No,BSBUseWPX,No
Point01,xy, 165, 252,in, deg, 54, 20.0000,N, 25, 0.0000,E, grid, , , ,N
Point02,xy, 4045, 254,in, deg, 54, 20.0000,N, 25, 30.0000,E, grid, , , ,N
Point03,xy, 4060, 4643,in, deg, 54, 0.0000,N, 25, 30.0000,E, grid, , , ,N
Point04,xy, 153, 4640,in, deg, 54, 0.0000,N, 25, 0.0000,E, grid, , , ,N
Point05,xy, 2105, 2452,in, deg, 54, 10.0000,N, 25, 15.0000,E, grid, , , ,N
Point06,xy, 2105, 257,in, deg, 54, 20.0000,N, 25, 15.0000,E, grid, , , ,N
Point07,xy, 157, 2446,in, deg, 54, 10.0000,N, 25, 0.0000,E, grid, , , ,N
Point08,xy, 4055, 2447,in, deg, 54, 10.0000,N, 25, 30.0000,E, grid, , , ,N
Point09,xy, 2110, 4645,in, deg, 54, 0.0000,N, 25, 15.0000,E, grid, , , ,N
Point10,xy, , ,in, deg, , ,N, , ,W, grid, , , ,N
Point11,xy, , ,in, deg, , ,N, , ,W, grid, , , ,N
Point12,xy, , ,in, deg, , ,N, , ,W, grid, , , ,N
Point13,xy, , ,in, deg, , ,N, , ,W, grid, , , ,N
Point14,xy, , ,in, deg, , ,N, , ,W, grid, , , ,N
Point15,xy, , ,in, deg, , ,N, , ,W, grid, , , ,N
Point16,xy, , ,in, deg, , ,N, , ,W, grid, , , ,N
Point17,xy, , ,in, deg, , ,N, , ,W, grid, , , ,N
Point18,xy, , ,in, deg, , ,N, , ,W, grid, , , ,N
Point19,xy, , ,in, deg, , ,N, , ,W, grid, , , ,N
Point20,xy, , ,in, deg, , ,N, , ,W, grid, , , ,N
Point21,xy, , ,in, deg, , ,N, , ,W, grid, , , ,N
Point22,xy, , ,in, deg, , ,N, , ,W, grid, , , ,N
Point23,xy, , ,in, deg, , ,N, , ,W, grid, , , ,N
Point24,xy, , ,in, deg, , ,N, , ,W, grid, , , ,N
Point25,xy, , ,in, deg, , ,N, , ,W, grid, , , ,N
Point26,xy, , ,in, deg, , ,N, , ,W, grid, , , ,N
Point27,xy, , ,in, deg, , ,N, , ,W, grid, , , ,N
Point28,xy, , ,in, deg, , ,N, , ,W, grid, , , ,N
Point29,xy, , ,in, deg, , ,N, , ,W, grid, , , ,N
Point30,xy, , ,in, deg, , ,N, , ,W, grid, , , ,N
Projection Setup, 0.000000000, 27.000000000, 1.000000000, 5500000.00, 0.00,,,,,
Map Feature = MF ; Map Comment = MC These follow if they exist
Track File = TF These follow if they exist
Moving Map Parameters = MM? These follow if they exist
MM0,Yes
MMPNUM,4
MMPXY,1,166,253
MMPXY,2,4045,255
MMPXY,3,4061,4642
MMPXY,4,153,4640
MMPLL,1,25.000114,54.333260
MMPLL,2,25.500071,54.333275
MMPLL,3,25.499774,54.000028
MMPLL,4,25.000112,54.000043
MM1B,8.379930
MOP,Map Open Position,0,0
IWH,Map Image Width/Height,4215,5096
