OziExplorer Map Data File Version 2.2
N-35-062 Варена
C:\strorry\Maps\Genshtab_1k\n-35-062.ozfx3
1 ,Map Code,
Pulkovo 1942 (1),WGS 84, 0.0000, 0.0000,WGS 84
Reserved 1
Reserved 2
Magnetic Variation,,,E
Map Projection,Transverse Mercator,PolyCal,No,AutoCalOnly,No,BSBUseWPX,No
Point01,xy, 172, 254,in, deg, 54, 20.0000,N, 24, 30.0000,E, grid, , , ,N
Point02,xy, 4052, 261,in, deg, 54, 20.0000,N, 25, 0.0000,E, grid, , , ,N
Point03,xy, 4062, 4643,in, deg, 54, 0.0000,N, 25, 0.0000,E, grid, , , ,N
Point04,xy, 151, 4636,in, deg, 54, 0.0000,N, 24, 30.0000,E, grid, , , ,N
Point05,xy, 2109, 2450,in, deg, 54, 10.0000,N, 24, 45.0000,E, grid, , , ,N
Point06,xy, 2110, 258,in, deg, 54, 20.0000,N, 24, 45.0000,E, grid, , , ,N
Point07,xy, 162, 2450,in, deg, 54, 10.0000,N, 24, 30.0000,E, grid, , , ,N
Point08,xy, 4058, 2453,in, deg, 54, 10.0000,N, 25, 0.0000,E, grid, , , ,N
Point09,xy, 2110, 4644,in, deg, 54, 0.0000,N, 24, 45.0000,E, grid, , , ,N
Point10,xy, , ,in, deg, , ,N, , ,W, grid, , , ,N
Point11,xy, , ,in, deg, , ,N, , ,W, grid, , , ,N
Point12,xy, , ,in, deg, , ,N, , ,W, grid, , , ,N
Point13,xy, , ,in, deg, , ,N, , ,W, grid, , , ,N
Point14,xy, , ,in, deg, , ,N, , ,W, grid, , , ,N
Point15,xy, , ,in, deg, , ,N, , ,W, grid, , , ,N
Point16,xy, , ,in, deg, , ,N, , ,W, grid, , , ,N
Point17,xy, , ,in, deg, , ,N, , ,W, grid, , , ,N
Point18,xy, , ,in, deg, , ,N, , ,W, grid, , , ,N
Point19,xy, , ,in, deg, , ,N, , ,W, grid, , , ,N
Point20,xy, , ,in, deg, , ,N, , ,W, grid, , , ,N
Point21,xy, , ,in, deg, , ,N, , ,W, grid, , , ,N
Point22,xy, , ,in, deg, , ,N, , ,W, grid, , , ,N
Point23,xy, , ,in, deg, , ,N, , ,W, grid, , , ,N
Point24,xy, , ,in, deg, , ,N, , ,W, grid, , , ,N
Point25,xy, , ,in, deg, , ,N, , ,W, grid, , , ,N
Point26,xy, , ,in, deg, , ,N, , ,W, grid, , , ,N
Point27,xy, , ,in, deg, , ,N, , ,W, grid, , , ,N
Point28,xy, , ,in, deg, , ,N, , ,W, grid, , , ,N
Point29,xy, , ,in, deg, , ,N, , ,W, grid, , , ,N
Point30,xy, , ,in, deg, , ,N, , ,W, grid, , , ,N
Projection Setup, 0.000000000, 27.000000000, 1.000000000, 5500000.00, 0.00,,,,,
Map Feature = MF ; Map Comment = MC These follow if they exist
Track File = TF These follow if they exist
Moving Map Parameters = MM? These follow if they exist
MM0,Yes
MMPNUM,4
MMPXY,1,172,254
MMPXY,2,4052,261
MMPXY,3,4063,4644
MMPXY,4,152,4636
MMPLL,1,24.500077,54.333343
MMPLL,2,25.000078,54.333259
MMPLL,3,24.999950,53.999933
MMPLL,4,24.499991,54.000128
MM1B,8.377954
MOP,Map Open Position,0,0
IWH,Map Image Width/Height,4217,5088
