OziExplorer Map Data File Version 2.2
N-35-059 Новолукомль
C:\strorry\Maps\Genshtab_1k\n-35-059.ozfx3
1 ,Map Code,
Pulkovo 1942 (1),WGS 84, 0.0000, 0.0000,WGS 84
Reserved 1
Reserved 2
Magnetic Variation,,,E
Map Projection,Transverse Mercator,PolyCal,No,AutoCalOnly,No,BSBUseWPX,No
Point01,xy, 166, 244,in, deg, 54, 40.0000,N, 29, 0.0000,E, grid, , , ,N
Point02,xy, 4016, 245,in, deg, 54, 40.0000,N, 29, 30.0000,E, grid, , , ,N
Point03,xy, 4029, 4631,in, deg, 54, 20.0000,N, 29, 30.0000,E, grid, , , ,N
Point04,xy, 146, 4629,in, deg, 54, 20.0000,N, 29, 0.0000,E, grid, , , ,N
Point05,xy, 2090, 2441,in, deg, 54, 30.0000,N, 29, 15.0000,E, grid, , , ,N
Point06,xy, 2089, 248,in, deg, 54, 40.0000,N, 29, 15.0000,E, grid, , , ,N
Point07,xy, 157, 2438,in, deg, 54, 30.0000,N, 29, 0.0000,E, grid, , , ,N
Point08,xy, 4024, 2441,in, deg, 54, 30.0000,N, 29, 30.0000,E, grid, , , ,N
Point09,xy, 2089, 4635,in, deg, 54, 20.0000,N, 29, 15.0000,E, grid, , , ,N
Point10,xy, , ,in, deg, , ,N, , ,W, grid, , , ,N
Point11,xy, , ,in, deg, , ,N, , ,W, grid, , , ,N
Point12,xy, , ,in, deg, , ,N, , ,W, grid, , , ,N
Point13,xy, , ,in, deg, , ,N, , ,W, grid, , , ,N
Point14,xy, , ,in, deg, , ,N, , ,W, grid, , , ,N
Point15,xy, , ,in, deg, , ,N, , ,W, grid, , , ,N
Point16,xy, , ,in, deg, , ,N, , ,W, grid, , , ,N
Point17,xy, , ,in, deg, , ,N, , ,W, grid, , , ,N
Point18,xy, , ,in, deg, , ,N, , ,W, grid, , , ,N
Point19,xy, , ,in, deg, , ,N, , ,W, grid, , , ,N
Point20,xy, , ,in, deg, , ,N, , ,W, grid, , , ,N
Point21,xy, , ,in, deg, , ,N, , ,W, grid, , , ,N
Point22,xy, , ,in, deg, , ,N, , ,W, grid, , , ,N
Point23,xy, , ,in, deg, , ,N, , ,W, grid, , , ,N
Point24,xy, , ,in, deg, , ,N, , ,W, grid, , , ,N
Point25,xy, , ,in, deg, , ,N, , ,W, grid, , , ,N
Point26,xy, , ,in, deg, , ,N, , ,W, grid, , , ,N
Point27,xy, , ,in, deg, , ,N, , ,W, grid, , , ,N
Point28,xy, , ,in, deg, , ,N, , ,W, grid, , , ,N
Point29,xy, , ,in, deg, , ,N, , ,W, grid, , , ,N
Point30,xy, , ,in, deg, , ,N, , ,W, grid, , , ,N
Projection Setup, 0.000000000, 27.000000000, 1.000000000, 5500000.00, 0.00,,,,,
Map Feature = MF ; Map Comment = MC These follow if they exist
Track File = TF These follow if they exist
Moving Map Parameters = MM? These follow if they exist
MM0,Yes
MMPNUM,4
MMPXY,1,166,244
MMPXY,2,4016,244
MMPXY,3,4029,4631
MMPXY,4,146,4630
MMPLL,1,29.000097,54.666675
MMPLL,2,29.499978,54.666807
MMPLL,3,29.499925,54.333417
MMPLL,4,28.999848,54.333320
MM1B,8.372196
MOP,Map Open Position,0,0
IWH,Map Image Width/Height,4178,5059
