OziExplorer Map Data File Version 2.2
N-35-057 Ηεμαθν
C:\strorry\Maps\Genshtab_1k\n-35-057.ozfx3
1 ,Map Code,
Pulkovo 1942 (1),WGS 84, 0.0000, 0.0000,WGS 84
Reserved 1
Reserved 2
Magnetic Variation,,,E
Map Projection,Transverse Mercator,PolyCal,No,AutoCalOnly,No,BSBUseWPX,No
Point01,xy, 165, 255,in, deg, 54, 40.0000,N, 28, 0.0000,E, grid, , , ,N
Point02,xy, 4012, 259,in, deg, 54, 40.0000,N, 28, 30.0000,E, grid, , , ,N
Point03,xy, 4022, 4637,in, deg, 54, 20.0000,N, 28, 30.0000,E, grid, , , ,N
Point04,xy, 151, 4635,in, deg, 54, 20.0000,N, 28, 0.0000,E, grid, , , ,N
Point05,xy, 2088, 2450,in, deg, 54, 30.0000,N, 28, 15.0000,E, grid, , , ,N
Point06,xy, 2090, 262,in, deg, 54, 40.0000,N, 28, 15.0000,E, grid, , , ,N
Point07,xy, 158, 2446,in, deg, 54, 30.0000,N, 28, 0.0000,E, grid, , , ,N
Point08,xy, 4017, 2449,in, deg, 54, 30.0000,N, 28, 30.0000,E, grid, , , ,N
Point09,xy, 2088, 4638,in, deg, 54, 20.0000,N, 28, 15.0000,E, grid, , , ,N
Point10,xy, , ,in, deg, , ,N, , ,W, grid, , , ,N
Point11,xy, , ,in, deg, , ,N, , ,W, grid, , , ,N
Point12,xy, , ,in, deg, , ,N, , ,W, grid, , , ,N
Point13,xy, , ,in, deg, , ,N, , ,W, grid, , , ,N
Point14,xy, , ,in, deg, , ,N, , ,W, grid, , , ,N
Point15,xy, , ,in, deg, , ,N, , ,W, grid, , , ,N
Point16,xy, , ,in, deg, , ,N, , ,W, grid, , , ,N
Point17,xy, , ,in, deg, , ,N, , ,W, grid, , , ,N
Point18,xy, , ,in, deg, , ,N, , ,W, grid, , , ,N
Point19,xy, , ,in, deg, , ,N, , ,W, grid, , , ,N
Point20,xy, , ,in, deg, , ,N, , ,W, grid, , , ,N
Point21,xy, , ,in, deg, , ,N, , ,W, grid, , , ,N
Point22,xy, , ,in, deg, , ,N, , ,W, grid, , , ,N
Point23,xy, , ,in, deg, , ,N, , ,W, grid, , , ,N
Point24,xy, , ,in, deg, , ,N, , ,W, grid, , , ,N
Point25,xy, , ,in, deg, , ,N, , ,W, grid, , , ,N
Point26,xy, , ,in, deg, , ,N, , ,W, grid, , , ,N
Point27,xy, , ,in, deg, , ,N, , ,W, grid, , , ,N
Point28,xy, , ,in, deg, , ,N, , ,W, grid, , , ,N
Point29,xy, , ,in, deg, , ,N, , ,W, grid, , , ,N
Point30,xy, , ,in, deg, , ,N, , ,W, grid, , , ,N
Projection Setup, 0.000000000, 27.000000000, 1.000000000, 5500000.00, 0.00,,,,,
Map Feature = MF ; Map Comment = MC These follow if they exist
Track File = TF These follow if they exist
Moving Map Parameters = MM? These follow if they exist
MM0,Yes
MMPNUM,4
MMPXY,1,166,255
MMPXY,2,4011,259
MMPXY,3,4022,4637
MMPXY,4,153,4635
MMPLL,1,27.999837,54.666767
MMPLL,2,28.500062,54.666680
MMPLL,3,28.499712,54.333358
MMPLL,4,28.000447,54.333271
MM1B,8.390333
MOP,Map Open Position,0,0
IWH,Map Image Width/Height,4174,5078
