OziExplorer Map Data File Version 2.2
N-35-055 Èëüÿ
C:\strorry\Maps\Genshtab_1k\n-35-055.ozfx3
1 ,Map Code,
Pulkovo 1942 (1),WGS 84, 0.0000, 0.0000,WGS 84
Reserved 1
Reserved 2
Magnetic Variation,,,E
Map Projection,Transverse Mercator,PolyCal,No,AutoCalOnly,No,BSBUseWPX,No
Point01,xy, 131, 255,in, deg, 54, 40.0000,N, 27, 0.0000,E, grid, , , ,N
Point02,xy, 3973, 256,in, deg, 54, 40.0000,N, 27, 30.0000,E, grid, , , ,N
Point03,xy, 3994, 4641,in, deg, 54, 20.0000,N, 27, 30.0000,E, grid, , , ,N
Point04,xy, 121, 4640,in, deg, 54, 20.0000,N, 27, 0.0000,E, grid, , , ,N
Point05,xy, 2055, 2452,in, deg, 54, 30.0000,N, 27, 15.0000,E, grid, , , ,N
Point06,xy, 2053, 257,in, deg, 54, 40.0000,N, 27, 15.0000,E, grid, , , ,N
Point07,xy, 126, 2448,in, deg, 54, 30.0000,N, 27, 0.0000,E, grid, , , ,N
Point08,xy, 3986, 2449,in, deg, 54, 30.0000,N, 27, 30.0000,E, grid, , , ,N
Point09,xy, 2058, 4645,in, deg, 54, 20.0000,N, 27, 15.0000,E, grid, , , ,N
Point10,xy, , ,in, deg, , ,N, , ,W, grid, , , ,N
Point11,xy, , ,in, deg, , ,N, , ,W, grid, , , ,N
Point12,xy, , ,in, deg, , ,N, , ,W, grid, , , ,N
Point13,xy, , ,in, deg, , ,N, , ,W, grid, , , ,N
Point14,xy, , ,in, deg, , ,N, , ,W, grid, , , ,N
Point15,xy, , ,in, deg, , ,N, , ,W, grid, , , ,N
Point16,xy, , ,in, deg, , ,N, , ,W, grid, , , ,N
Point17,xy, , ,in, deg, , ,N, , ,W, grid, , , ,N
Point18,xy, , ,in, deg, , ,N, , ,W, grid, , , ,N
Point19,xy, , ,in, deg, , ,N, , ,W, grid, , , ,N
Point20,xy, , ,in, deg, , ,N, , ,W, grid, , , ,N
Point21,xy, , ,in, deg, , ,N, , ,W, grid, , , ,N
Point22,xy, , ,in, deg, , ,N, , ,W, grid, , , ,N
Point23,xy, , ,in, deg, , ,N, , ,W, grid, , , ,N
Point24,xy, , ,in, deg, , ,N, , ,W, grid, , , ,N
Point25,xy, , ,in, deg, , ,N, , ,W, grid, , , ,N
Point26,xy, , ,in, deg, , ,N, , ,W, grid, , , ,N
Point27,xy, , ,in, deg, , ,N, , ,W, grid, , , ,N
Point28,xy, , ,in, deg, , ,N, , ,W, grid, , , ,N
Point29,xy, , ,in, deg, , ,N, , ,W, grid, , , ,N
Point30,xy, , ,in, deg, , ,N, , ,W, grid, , , ,N
Projection Setup, 0.000000000, 27.000000000, 1.000000000, 5500000.00, 0.00,,,,,
Map Feature = MF ; Map Comment = MC These follow if they exist
Track File = TF These follow if they exist
Moving Map Parameters = MM? These follow if they exist
MM0,Yes
MMPNUM,4
MMPXY,1,131,255
MMPXY,2,3973,256
MMPXY,3,3994,4640
MMPXY,4,122,4640
MMPLL,1,26.999969,54.666636
MMPLL,2,27.499887,54.666634
MMPLL,3,27.499885,54.333455
MMPLL,4,27.000145,54.333376
MM1B,8.392500
MOP,Map Open Position,0,0
IWH,Map Image Width/Height,4122,5084
