OziExplorer Map Data File Version 2.2
N-35-048 Сенно
C:\strorry\Maps\Genshtab_1k\n-35-048.ozfx3
1 ,Map Code,
Pulkovo 1942 (1),WGS 84, 0.0000, 0.0000,WGS 84
Reserved 1
Reserved 2
Magnetic Variation,,,E
Map Projection,Transverse Mercator,PolyCal,No,AutoCalOnly,No,BSBUseWPX,No
Point01,xy, 169, 259,in, deg, 55, 0.0000,N, 29, 30.0000,E, grid, , , ,N
Point02,xy, 3989, 259,in, deg, 55, 0.0000,N, 30, 0.0000,E, grid, , , ,N
Point03,xy, 4002, 4649,in, deg, 54, 40.0000,N, 30, 0.0000,E, grid, , , ,N
Point04,xy, 158, 4646,in, deg, 54, 40.0000,N, 29, 30.0000,E, grid, , , ,N
Point05,xy, 2080, 2457,in, deg, 54, 50.0000,N, 29, 45.0000,E, grid, , , ,N
Point06,xy, 2077, 263,in, deg, 55, 0.0000,N, 29, 45.0000,E, grid, , , ,N
Point07,xy, 161, 2452,in, deg, 54, 50.0000,N, 29, 30.0000,E, grid, , , ,N
Point08,xy, 3997, 2455,in, deg, 54, 50.0000,N, 30, 0.0000,E, grid, , , ,N
Point09,xy, 2082, 4649,in, deg, 54, 40.0000,N, 29, 45.0000,E, grid, , , ,N
Point10,xy, , ,in, deg, , ,N, , ,W, grid, , , ,N
Point11,xy, , ,in, deg, , ,N, , ,W, grid, , , ,N
Point12,xy, , ,in, deg, , ,N, , ,W, grid, , , ,N
Point13,xy, , ,in, deg, , ,N, , ,W, grid, , , ,N
Point14,xy, , ,in, deg, , ,N, , ,W, grid, , , ,N
Point15,xy, , ,in, deg, , ,N, , ,W, grid, , , ,N
Point16,xy, , ,in, deg, , ,N, , ,W, grid, , , ,N
Point17,xy, , ,in, deg, , ,N, , ,W, grid, , , ,N
Point18,xy, , ,in, deg, , ,N, , ,W, grid, , , ,N
Point19,xy, , ,in, deg, , ,N, , ,W, grid, , , ,N
Point20,xy, , ,in, deg, , ,N, , ,W, grid, , , ,N
Point21,xy, , ,in, deg, , ,N, , ,W, grid, , , ,N
Point22,xy, , ,in, deg, , ,N, , ,W, grid, , , ,N
Point23,xy, , ,in, deg, , ,N, , ,W, grid, , , ,N
Point24,xy, , ,in, deg, , ,N, , ,W, grid, , , ,N
Point25,xy, , ,in, deg, , ,N, , ,W, grid, , , ,N
Point26,xy, , ,in, deg, , ,N, , ,W, grid, , , ,N
Point27,xy, , ,in, deg, , ,N, , ,W, grid, , , ,N
Point28,xy, , ,in, deg, , ,N, , ,W, grid, , , ,N
Point29,xy, , ,in, deg, , ,N, , ,W, grid, , , ,N
Point30,xy, , ,in, deg, , ,N, , ,W, grid, , , ,N
Projection Setup, 0.000000000, 27.000000000, 1.000000000, 5500000.00, 0.00,,,,,
Map Feature = MF ; Map Comment = MC These follow if they exist
Track File = TF These follow if they exist
Moving Map Parameters = MM? These follow if they exist
MM0,Yes
MMPNUM,4
MMPXY,1,170,259
MMPXY,2,3989,259
MMPXY,3,4002,4649
MMPXY,4,158,4646
MMPLL,1,29.500064,54.999964
MMPLL,2,30.000259,55.000091
MMPLL,3,29.999589,54.666605
MMPLL,4,29.500254,54.666657
MM1B,8.374984
MOP,Map Open Position,0,0
IWH,Map Image Width/Height,4159,5083
