OziExplorer Map Data File Version 2.2
N-35-045 Бегомль
C:\strorry\Maps\Genshtab_1k\n-35-045.ozfx3
1 ,Map Code,
Pulkovo 1942 (1),WGS 84, 0.0000, 0.0000,WGS 84
Reserved 1
Reserved 2
Magnetic Variation,,,E
Map Projection,Transverse Mercator,PolyCal,No,AutoCalOnly,No,BSBUseWPX,No
Point01,xy, 161, 256,in, deg, 55, 0.0000,N, 28, 0.0000,E, grid, , , ,N
Point02,xy, 3975, 257,in, deg, 55, 0.0000,N, 28, 30.0000,E, grid, , , ,N
Point03,xy, 3993, 4633,in, deg, 54, 40.0000,N, 28, 30.0000,E, grid, , , ,N
Point04,xy, 152, 4633,in, deg, 54, 40.0000,N, 28, 0.0000,E, grid, , , ,N
Point05,xy, 2071, 2445,in, deg, 54, 50.0000,N, 28, 15.0000,E, grid, , , ,N
Point06,xy, 2068, 262,in, deg, 55, 0.0000,N, 28, 15.0000,E, grid, , , ,N
Point07,xy, 154, 2443,in, deg, 54, 50.0000,N, 28, 0.0000,E, grid, , , ,N
Point08,xy, 3985, 2445,in, deg, 54, 50.0000,N, 28, 30.0000,E, grid, , , ,N
Point09,xy, 2074, 4633,in, deg, 54, 40.0000,N, 28, 15.0000,E, grid, , , ,N
Point10,xy, , ,in, deg, , ,N, , ,W, grid, , , ,N
Point11,xy, , ,in, deg, , ,N, , ,W, grid, , , ,N
Point12,xy, , ,in, deg, , ,N, , ,W, grid, , , ,N
Point13,xy, , ,in, deg, , ,N, , ,W, grid, , , ,N
Point14,xy, , ,in, deg, , ,N, , ,W, grid, , , ,N
Point15,xy, , ,in, deg, , ,N, , ,W, grid, , , ,N
Point16,xy, , ,in, deg, , ,N, , ,W, grid, , , ,N
Point17,xy, , ,in, deg, , ,N, , ,W, grid, , , ,N
Point18,xy, , ,in, deg, , ,N, , ,W, grid, , , ,N
Point19,xy, , ,in, deg, , ,N, , ,W, grid, , , ,N
Point20,xy, , ,in, deg, , ,N, , ,W, grid, , , ,N
Point21,xy, , ,in, deg, , ,N, , ,W, grid, , , ,N
Point22,xy, , ,in, deg, , ,N, , ,W, grid, , , ,N
Point23,xy, , ,in, deg, , ,N, , ,W, grid, , , ,N
Point24,xy, , ,in, deg, , ,N, , ,W, grid, , , ,N
Point25,xy, , ,in, deg, , ,N, , ,W, grid, , , ,N
Point26,xy, , ,in, deg, , ,N, , ,W, grid, , , ,N
Point27,xy, , ,in, deg, , ,N, , ,W, grid, , , ,N
Point28,xy, , ,in, deg, , ,N, , ,W, grid, , , ,N
Point29,xy, , ,in, deg, , ,N, , ,W, grid, , , ,N
Point30,xy, , ,in, deg, , ,N, , ,W, grid, , , ,N
Projection Setup, 0.000000000, 27.000000000, 1.000000000, 5500000.00, 0.00,,,,,
Map Feature = MF ; Map Comment = MC These follow if they exist
Track File = TF These follow if they exist
Moving Map Parameters = MM? These follow if they exist
MM0,Yes
MMPNUM,4
MMPXY,1,161,257
MMPXY,2,3976,257
MMPXY,3,3993,4633
MMPXY,4,153,4633
MMPLL,1,27.999949,54.999949
MMPLL,2,28.500227,55.000014
MMPLL,3,28.499734,54.666590
MMPLL,4,28.000311,54.666503
MM1B,8.387896
MOP,Map Open Position,0,0
IWH,Map Image Width/Height,4145,5076
