OziExplorer Map Data File Version 2.2
N-35-044 Докшицы
C:\strorry\Maps\Genshtab_1k\n-35-044.ozfx3
1 ,Map Code,
Pulkovo 1942 (1),WGS 84, 0.0000, 0.0000,WGS 84
Reserved 1
Reserved 2
Magnetic Variation,,,E
Map Projection,Transverse Mercator,PolyCal,No,AutoCalOnly,No,BSBUseWPX,No
Point01,xy, 133, 257,in, deg, 55, 0.0000,N, 27, 30.0000,E, grid, , , ,N
Point02,xy, 3950, 252,in, deg, 55, 0.0000,N, 28, 0.0000,E, grid, , , ,N
Point03,xy, 3969, 4635,in, deg, 54, 40.0000,N, 28, 0.0000,E, grid, , , ,N
Point04,xy, 125, 4635,in, deg, 54, 40.0000,N, 27, 30.0000,E, grid, , , ,N
Point05,xy, 2044, 2451,in, deg, 54, 50.0000,N, 27, 45.0000,E, grid, , , ,N
Point06,xy, 2044, 260,in, deg, 55, 0.0000,N, 27, 45.0000,E, grid, , , ,N
Point07,xy, 129, 2447,in, deg, 54, 50.0000,N, 27, 30.0000,E, grid, , , ,N
Point08,xy, 3961, 2445,in, deg, 54, 50.0000,N, 28, 0.0000,E, grid, , , ,N
Point09,xy, 2048, 4638,in, deg, 54, 40.0000,N, 27, 45.0000,E, grid, , , ,N
Point10,xy, , ,in, deg, , ,N, , ,W, grid, , , ,N
Point11,xy, , ,in, deg, , ,N, , ,W, grid, , , ,N
Point12,xy, , ,in, deg, , ,N, , ,W, grid, , , ,N
Point13,xy, , ,in, deg, , ,N, , ,W, grid, , , ,N
Point14,xy, , ,in, deg, , ,N, , ,W, grid, , , ,N
Point15,xy, , ,in, deg, , ,N, , ,W, grid, , , ,N
Point16,xy, , ,in, deg, , ,N, , ,W, grid, , , ,N
Point17,xy, , ,in, deg, , ,N, , ,W, grid, , , ,N
Point18,xy, , ,in, deg, , ,N, , ,W, grid, , , ,N
Point19,xy, , ,in, deg, , ,N, , ,W, grid, , , ,N
Point20,xy, , ,in, deg, , ,N, , ,W, grid, , , ,N
Point21,xy, , ,in, deg, , ,N, , ,W, grid, , , ,N
Point22,xy, , ,in, deg, , ,N, , ,W, grid, , , ,N
Point23,xy, , ,in, deg, , ,N, , ,W, grid, , , ,N
Point24,xy, , ,in, deg, , ,N, , ,W, grid, , , ,N
Point25,xy, , ,in, deg, , ,N, , ,W, grid, , , ,N
Point26,xy, , ,in, deg, , ,N, , ,W, grid, , , ,N
Point27,xy, , ,in, deg, , ,N, , ,W, grid, , , ,N
Point28,xy, , ,in, deg, , ,N, , ,W, grid, , , ,N
Point29,xy, , ,in, deg, , ,N, , ,W, grid, , , ,N
Point30,xy, , ,in, deg, , ,N, , ,W, grid, , , ,N
Projection Setup, 0.000000000, 27.000000000, 1.000000000, 5500000.00, 0.00,,,,,
Map Feature = MF ; Map Comment = MC These follow if they exist
Track File = TF These follow if they exist
Moving Map Parameters = MM? These follow if they exist
MM0,Yes
MMPNUM,4
MMPXY,1,132,256
MMPXY,2,3949,252
MMPXY,3,3970,4635
MMPXY,4,125,4636
MMPLL,1,27.499650,55.000068
MMPLL,2,27.999887,55.000190
MMPLL,3,27.999914,54.666609
MMPLL,4,27.500144,54.666704
MM1B,8.383303
MOP,Map Open Position,0,0
IWH,Map Image Width/Height,4099,5088
