OziExplorer Map Data File Version 2.2
N-35-043 Кривичи
C:\strorry\Maps\Genshtab_1k\n-35-043.ozfx3
1 ,Map Code,
Pulkovo 1942 (1),WGS 84, 0.0000, 0.0000,WGS 84
Reserved 1
Reserved 2
Magnetic Variation,,,E
Map Projection,Transverse Mercator,PolyCal,No,AutoCalOnly,No,BSBUseWPX,No
Point01,xy, 143, 257,in, deg, 55, 0.0000,N, 27, 0.0000,E, grid, , , ,N
Point02,xy, 3953, 258,in, deg, 55, 0.0000,N, 27, 30.0000,E, grid, , , ,N
Point03,xy, 3968, 4640,in, deg, 54, 40.0000,N, 27, 30.0000,E, grid, , , ,N
Point04,xy, 128, 4640,in, deg, 54, 40.0000,N, 27, 0.0000,E, grid, , , ,N
Point05,xy, 2049, 2452,in, deg, 54, 50.0000,N, 27, 15.0000,E, grid, , , ,N
Point06,xy, 2049, 262,in, deg, 55, 0.0000,N, 27, 15.0000,E, grid, , , ,N
Point07,xy, 133, 2449,in, deg, 54, 50.0000,N, 27, 0.0000,E, grid, , , ,N
Point08,xy, 3962, 2450,in, deg, 54, 50.0000,N, 27, 30.0000,E, grid, , , ,N
Point09,xy, 2048, 4642,in, deg, 54, 40.0000,N, 27, 15.0000,E, grid, , , ,N
Point10,xy, , ,in, deg, , ,N, , ,W, grid, , , ,N
Point11,xy, , ,in, deg, , ,N, , ,W, grid, , , ,N
Point12,xy, , ,in, deg, , ,N, , ,W, grid, , , ,N
Point13,xy, , ,in, deg, , ,N, , ,W, grid, , , ,N
Point14,xy, , ,in, deg, , ,N, , ,W, grid, , , ,N
Point15,xy, , ,in, deg, , ,N, , ,W, grid, , , ,N
Point16,xy, , ,in, deg, , ,N, , ,W, grid, , , ,N
Point17,xy, , ,in, deg, , ,N, , ,W, grid, , , ,N
Point18,xy, , ,in, deg, , ,N, , ,W, grid, , , ,N
Point19,xy, , ,in, deg, , ,N, , ,W, grid, , , ,N
Point20,xy, , ,in, deg, , ,N, , ,W, grid, , , ,N
Point21,xy, , ,in, deg, , ,N, , ,W, grid, , , ,N
Point22,xy, , ,in, deg, , ,N, , ,W, grid, , , ,N
Point23,xy, , ,in, deg, , ,N, , ,W, grid, , , ,N
Point24,xy, , ,in, deg, , ,N, , ,W, grid, , , ,N
Point25,xy, , ,in, deg, , ,N, , ,W, grid, , , ,N
Point26,xy, , ,in, deg, , ,N, , ,W, grid, , , ,N
Point27,xy, , ,in, deg, , ,N, , ,W, grid, , , ,N
Point28,xy, , ,in, deg, , ,N, , ,W, grid, , , ,N
Point29,xy, , ,in, deg, , ,N, , ,W, grid, , , ,N
Point30,xy, , ,in, deg, , ,N, , ,W, grid, , , ,N
Projection Setup, 0.000000000, 27.000000000, 1.000000000, 5500000.00, 0.00,,,,,
Map Feature = MF ; Map Comment = MC These follow if they exist
Track File = TF These follow if they exist
Moving Map Parameters = MM? These follow if they exist
MM0,Yes
MMPNUM,4
MMPXY,1,143,257
MMPXY,2,3953,259
MMPXY,3,3969,4641
MMPXY,4,128,4640
MMPLL,1,27.000000,55.000054
MMPLL,2,27.499926,54.999951
MMPLL,3,27.500001,54.666594
MMPLL,4,27.000143,54.666617
MM1B,8.393678
MOP,Map Open Position,0,0
IWH,Map Image Width/Height,4095,5080
