OziExplorer Map Data File Version 2.2
N-35-042 Мядель
C:\strorry\Maps\Genshtab_1k\n-35-042.ozfx3
1 ,Map Code,
Pulkovo 1942 (1),WGS 84, 0.0000, 0.0000,WGS 84
Reserved 1
Reserved 2
Magnetic Variation,,,E
Map Projection,Transverse Mercator,PolyCal,No,AutoCalOnly,No,BSBUseWPX,No
Point01,xy, 137, 236,in, deg, 55, 0.0000,N, 26, 30.0000,E, grid, , , ,N
Point02,xy, 3951, 237,in, deg, 55, 0.0000,N, 27, 0.0000,E, grid, , , ,N
Point03,xy, 3973, 4625,in, deg, 54, 40.0000,N, 27, 0.0000,E, grid, , , ,N
Point04,xy, 129, 4628,in, deg, 54, 40.0000,N, 26, 30.0000,E, grid, , , ,N
Point05,xy, 2046, 2431,in, deg, 54, 50.0000,N, 26, 45.0000,E, grid, , , ,N
Point06,xy, 2045, 241,in, deg, 55, 0.0000,N, 26, 45.0000,E, grid, , , ,N
Point07,xy, 133, 2433,in, deg, 54, 50.0000,N, 26, 30.0000,E, grid, , , ,N
Point08,xy, 3962, 2430,in, deg, 54, 50.0000,N, 27, 0.0000,E, grid, , , ,N
Point09,xy, 2051, 4630,in, deg, 54, 40.0000,N, 26, 45.0000,E, grid, , , ,N
Point10,xy, , ,in, deg, , ,N, , ,W, grid, , , ,N
Point11,xy, , ,in, deg, , ,N, , ,W, grid, , , ,N
Point12,xy, , ,in, deg, , ,N, , ,W, grid, , , ,N
Point13,xy, , ,in, deg, , ,N, , ,W, grid, , , ,N
Point14,xy, , ,in, deg, , ,N, , ,W, grid, , , ,N
Point15,xy, , ,in, deg, , ,N, , ,W, grid, , , ,N
Point16,xy, , ,in, deg, , ,N, , ,W, grid, , , ,N
Point17,xy, , ,in, deg, , ,N, , ,W, grid, , , ,N
Point18,xy, , ,in, deg, , ,N, , ,W, grid, , , ,N
Point19,xy, , ,in, deg, , ,N, , ,W, grid, , , ,N
Point20,xy, , ,in, deg, , ,N, , ,W, grid, , , ,N
Point21,xy, , ,in, deg, , ,N, , ,W, grid, , , ,N
Point22,xy, , ,in, deg, , ,N, , ,W, grid, , , ,N
Point23,xy, , ,in, deg, , ,N, , ,W, grid, , , ,N
Point24,xy, , ,in, deg, , ,N, , ,W, grid, , , ,N
Point25,xy, , ,in, deg, , ,N, , ,W, grid, , , ,N
Point26,xy, , ,in, deg, , ,N, , ,W, grid, , , ,N
Point27,xy, , ,in, deg, , ,N, , ,W, grid, , , ,N
Point28,xy, , ,in, deg, , ,N, , ,W, grid, , , ,N
Point29,xy, , ,in, deg, , ,N, , ,W, grid, , , ,N
Point30,xy, , ,in, deg, , ,N, , ,W, grid, , , ,N
Projection Setup, 0.000000000, 27.000000000, 1.000000000, 5500000.00, 0.00,,,,,
Map Feature = MF ; Map Comment = MC These follow if they exist
Track File = TF These follow if they exist
Moving Map Parameters = MM? These follow if they exist
MM0,Yes
MMPNUM,4
MMPXY,1,137,236
MMPXY,2,3951,237
MMPXY,3,3972,4625
MMPXY,4,129,4628
MMPLL,1,26.499934,55.000090
MMPLL,2,27.000036,54.999889
MMPLL,3,26.999849,54.666680
MMPLL,4,26.500079,54.666582
MM1B,8.387819
MOP,Map Open Position,0,0
IWH,Map Image Width/Height,4102,5061
