OziExplorer Map Data File Version 2.2
N-35-040 Пабраде
C:\strorry\Maps\Genshtab_1k\n-35-040.ozfx3
1 ,Map Code,
Pulkovo 1942 (1),WGS 84, 0.0000, 0.0000,WGS 84
Reserved 1
Reserved 2
Magnetic Variation,,,E
Map Projection,Transverse Mercator,PolyCal,No,AutoCalOnly,No,BSBUseWPX,No
Point01,xy, 172, 258,in, deg, 55, 0.0000,N, 25, 30.0000,E, grid, , , ,N
Point02,xy, 3990, 260,in, deg, 55, 0.0000,N, 26, 0.0000,E, grid, , , ,N
Point03,xy, 4001, 4651,in, deg, 54, 40.0000,N, 26, 0.0000,E, grid, , , ,N
Point04,xy, 155, 4649,in, deg, 54, 40.0000,N, 25, 30.0000,E, grid, , , ,N
Point05,xy, 2083, 2459,in, deg, 54, 50.0000,N, 25, 45.0000,E, grid, , , ,N
Point06,xy, 2085, 262,in, deg, 55, 0.0000,N, 25, 45.0000,E, grid, , , ,N
Point07,xy, 164, 2455,in, deg, 54, 50.0000,N, 25, 30.0000,E, grid, , , ,N
Point08,xy, 3997, 2458,in, deg, 54, 50.0000,N, 26, 0.0000,E, grid, , , ,N
Point09,xy, 2076, 4652,in, deg, 54, 40.0000,N, 25, 45.0000,E, grid, , , ,N
Point10,xy, , ,in, deg, , ,N, , ,W, grid, , , ,N
Point11,xy, , ,in, deg, , ,N, , ,W, grid, , , ,N
Point12,xy, , ,in, deg, , ,N, , ,W, grid, , , ,N
Point13,xy, , ,in, deg, , ,N, , ,W, grid, , , ,N
Point14,xy, , ,in, deg, , ,N, , ,W, grid, , , ,N
Point15,xy, , ,in, deg, , ,N, , ,W, grid, , , ,N
Point16,xy, , ,in, deg, , ,N, , ,W, grid, , , ,N
Point17,xy, , ,in, deg, , ,N, , ,W, grid, , , ,N
Point18,xy, , ,in, deg, , ,N, , ,W, grid, , , ,N
Point19,xy, , ,in, deg, , ,N, , ,W, grid, , , ,N
Point20,xy, , ,in, deg, , ,N, , ,W, grid, , , ,N
Point21,xy, , ,in, deg, , ,N, , ,W, grid, , , ,N
Point22,xy, , ,in, deg, , ,N, , ,W, grid, , , ,N
Point23,xy, , ,in, deg, , ,N, , ,W, grid, , , ,N
Point24,xy, , ,in, deg, , ,N, , ,W, grid, , , ,N
Point25,xy, , ,in, deg, , ,N, , ,W, grid, , , ,N
Point26,xy, , ,in, deg, , ,N, , ,W, grid, , , ,N
Point27,xy, , ,in, deg, , ,N, , ,W, grid, , , ,N
Point28,xy, , ,in, deg, , ,N, , ,W, grid, , , ,N
Point29,xy, , ,in, deg, , ,N, , ,W, grid, , , ,N
Point30,xy, , ,in, deg, , ,N, , ,W, grid, , , ,N
Projection Setup, 0.000000000, 27.000000000, 1.000000000, 5500000.00, 0.00,,,,,
Map Feature = MF ; Map Comment = MC These follow if they exist
Track File = TF These follow if they exist
Moving Map Parameters = MM? These follow if they exist
MM0,Yes
MMPNUM,4
MMPXY,1,172,259
MMPXY,2,3990,260
MMPXY,3,4001,4651
MMPXY,4,154,4648
MMPLL,1,25.499664,54.999946
MMPLL,2,25.999856,55.000058
MMPLL,3,25.999884,54.666689
MMPLL,4,25.500028,54.666749
MM1B,8.379991
MOP,Map Open Position,0,0
IWH,Map Image Width/Height,4155,5095
