OziExplorer Map Data File Version 2.2
N-35-036 Шумилино
C:\strorry\Maps\Genshtab_1k\n-35-036.ozfx3
1 ,Map Code,
Pulkovo 1942 (1),WGS 84, 0.0000, 0.0000,WGS 84
Reserved 1
Reserved 2
Magnetic Variation,,,E
Map Projection,Transverse Mercator,PolyCal,No,AutoCalOnly,No,BSBUseWPX,No
Point01,xy, 160, 252,in, deg, 55, 20.0000,N, 29, 30.0000,E, grid, , , ,N
Point02,xy, 3945, 252,in, deg, 55, 20.0000,N, 30, 0.0000,E, grid, , , ,N
Point03,xy, 3962, 4636,in, deg, 55, 0.0000,N, 30, 0.0000,E, grid, , , ,N
Point04,xy, 151, 4636,in, deg, 55, 0.0000,N, 29, 30.0000,E, grid, , , ,N
Point05,xy, 2056, 2449,in, deg, 55, 10.0000,N, 29, 45.0000,E, grid, , , ,N
Point06,xy, 2054, 258,in, deg, 55, 20.0000,N, 29, 45.0000,E, grid, , , ,N
Point07,xy, 154, 2445,in, deg, 55, 10.0000,N, 29, 30.0000,E, grid, , , ,N
Point08,xy, 3955, 2443,in, deg, 55, 10.0000,N, 30, 0.0000,E, grid, , , ,N
Point09,xy, 2057, 4642,in, deg, 55, 0.0000,N, 29, 45.0000,E, grid, , , ,N
Point10,xy, , ,in, deg, , ,N, , ,W, grid, , , ,N
Point11,xy, , ,in, deg, , ,N, , ,W, grid, , , ,N
Point12,xy, , ,in, deg, , ,N, , ,W, grid, , , ,N
Point13,xy, , ,in, deg, , ,N, , ,W, grid, , , ,N
Point14,xy, , ,in, deg, , ,N, , ,W, grid, , , ,N
Point15,xy, , ,in, deg, , ,N, , ,W, grid, , , ,N
Point16,xy, , ,in, deg, , ,N, , ,W, grid, , , ,N
Point17,xy, , ,in, deg, , ,N, , ,W, grid, , , ,N
Point18,xy, , ,in, deg, , ,N, , ,W, grid, , , ,N
Point19,xy, , ,in, deg, , ,N, , ,W, grid, , , ,N
Point20,xy, , ,in, deg, , ,N, , ,W, grid, , , ,N
Point21,xy, , ,in, deg, , ,N, , ,W, grid, , , ,N
Point22,xy, , ,in, deg, , ,N, , ,W, grid, , , ,N
Point23,xy, , ,in, deg, , ,N, , ,W, grid, , , ,N
Point24,xy, , ,in, deg, , ,N, , ,W, grid, , , ,N
Point25,xy, , ,in, deg, , ,N, , ,W, grid, , , ,N
Point26,xy, , ,in, deg, , ,N, , ,W, grid, , , ,N
Point27,xy, , ,in, deg, , ,N, , ,W, grid, , , ,N
Point28,xy, , ,in, deg, , ,N, , ,W, grid, , , ,N
Point29,xy, , ,in, deg, , ,N, , ,W, grid, , , ,N
Point30,xy, , ,in, deg, , ,N, , ,W, grid, , , ,N
Projection Setup, 0.000000000, 27.000000000, 1.000000000, 5500000.00, 0.00,,,,,
Map Feature = MF ; Map Comment = MC These follow if they exist
Track File = TF These follow if they exist
Moving Map Parameters = MM? These follow if they exist
MM0,Yes
MMPNUM,4
MMPXY,1,160,252
MMPXY,2,3945,252
MMPXY,3,3962,4636
MMPXY,4,151,4637
MMPLL,1,29.499804,55.333427
MMPLL,2,30.000052,55.333354
MMPLL,3,29.999720,55.000044
MMPLL,4,29.500224,54.999996
MM1B,8.381020
MOP,Map Open Position,0,0
IWH,Map Image Width/Height,4112,5084
