OziExplorer Map Data File Version 2.2
N-35-032 Глубокое
C:\strorry\Maps\Genshtab_1k\n-35-032.ozfx3
1 ,Map Code,
Pulkovo 1942 (1),WGS 84, 0.0000, 0.0000,WGS 84
Reserved 1
Reserved 2
Magnetic Variation,,,E
Map Projection,Transverse Mercator,PolyCal,No,AutoCalOnly,No,BSBUseWPX,No
Point01,xy, 150, 258,in, deg, 55, 20.0000,N, 27, 30.0000,E, grid, , , ,N
Point02,xy, 3936, 259,in, deg, 55, 20.0000,N, 28, 0.0000,E, grid, , , ,N
Point03,xy, 3946, 4655,in, deg, 55, 0.0000,N, 28, 0.0000,E, grid, , , ,N
Point04,xy, 131, 4649,in, deg, 55, 0.0000,N, 27, 30.0000,E, grid, , , ,N
Point05,xy, 2042, 2457,in, deg, 55, 10.0000,N, 27, 45.0000,E, grid, , , ,N
Point06,xy, 2044, 261,in, deg, 55, 20.0000,N, 27, 45.0000,E, grid, , , ,N
Point07,xy, 138, 2453,in, deg, 55, 10.0000,N, 27, 30.0000,E, grid, , , ,N
Point08,xy, 3944, 2458,in, deg, 55, 10.0000,N, 28, 0.0000,E, grid, , , ,N
Point09,xy, 2039, 4655,in, deg, 55, 0.0000,N, 27, 45.0000,E, grid, , , ,N
Point10,xy, , ,in, deg, , ,N, , ,W, grid, , , ,N
Point11,xy, , ,in, deg, , ,N, , ,W, grid, , , ,N
Point12,xy, , ,in, deg, , ,N, , ,W, grid, , , ,N
Point13,xy, , ,in, deg, , ,N, , ,W, grid, , , ,N
Point14,xy, , ,in, deg, , ,N, , ,W, grid, , , ,N
Point15,xy, , ,in, deg, , ,N, , ,W, grid, , , ,N
Point16,xy, , ,in, deg, , ,N, , ,W, grid, , , ,N
Point17,xy, , ,in, deg, , ,N, , ,W, grid, , , ,N
Point18,xy, , ,in, deg, , ,N, , ,W, grid, , , ,N
Point19,xy, , ,in, deg, , ,N, , ,W, grid, , , ,N
Point20,xy, , ,in, deg, , ,N, , ,W, grid, , , ,N
Point21,xy, , ,in, deg, , ,N, , ,W, grid, , , ,N
Point22,xy, , ,in, deg, , ,N, , ,W, grid, , , ,N
Point23,xy, , ,in, deg, , ,N, , ,W, grid, , , ,N
Point24,xy, , ,in, deg, , ,N, , ,W, grid, , , ,N
Point25,xy, , ,in, deg, , ,N, , ,W, grid, , , ,N
Point26,xy, , ,in, deg, , ,N, , ,W, grid, , , ,N
Point27,xy, , ,in, deg, , ,N, , ,W, grid, , , ,N
Point28,xy, , ,in, deg, , ,N, , ,W, grid, , , ,N
Point29,xy, , ,in, deg, , ,N, , ,W, grid, , , ,N
Point30,xy, , ,in, deg, , ,N, , ,W, grid, , , ,N
Projection Setup, 0.000000000, 27.000000000, 1.000000000, 5500000.00, 0.00,,,,,
Map Feature = MF ; Map Comment = MC These follow if they exist
Track File = TF These follow if they exist
Moving Map Parameters = MM? These follow if they exist
MM0,Yes
MMPNUM,4
MMPXY,1,150,258
MMPXY,2,3936,258
MMPXY,3,3946,4655
MMPXY,4,130,4649
MMPLL,1,27.499973,55.333196
MMPLL,2,27.999912,55.333493
MMPLL,3,27.999755,54.999914
MMPLL,4,27.500041,55.000057
MM1B,8.376604
MOP,Map Open Position,0,0
IWH,Map Image Width/Height,4074,5135
