OziExplorer Map Data File Version 2.2
N-35-030 Поставы
C:\strorry\Maps\Genshtab_1k\n-35-030.ozfx3
1 ,Map Code,
Pulkovo 1942 (1),WGS 84, 0.0000, 0.0000,WGS 84
Reserved 1
Reserved 2
Magnetic Variation,,,E
Map Projection,Transverse Mercator,PolyCal,No,AutoCalOnly,No,BSBUseWPX,No
Point01,xy, 146, 245,in, deg, 55, 20.0000,N, 26, 30.0000,E, grid, , , ,N
Point02,xy, 3927, 246,in, deg, 55, 20.0000,N, 27, 0.0000,E, grid, , , ,N
Point03,xy, 3940, 4634,in, deg, 55, 0.0000,N, 27, 0.0000,E, grid, , , ,N
Point04,xy, 125, 4632,in, deg, 55, 0.0000,N, 26, 30.0000,E, grid, , , ,N
Point05,xy, 2036, 2438,in, deg, 55, 10.0000,N, 26, 45.0000,E, grid, , , ,N
Point06,xy, 2037, 250,in, deg, 55, 20.0000,N, 26, 45.0000,E, grid, , , ,N
Point07,xy, 134, 2436,in, deg, 55, 10.0000,N, 26, 30.0000,E, grid, , , ,N
Point08,xy, 3935, 2440,in, deg, 55, 10.0000,N, 27, 0.0000,E, grid, , , ,N
Point09,xy, 2035, 4637,in, deg, 55, 0.0000,N, 26, 45.0000,E, grid, , , ,N
Point10,xy, , ,in, deg, , ,N, , ,W, grid, , , ,N
Point11,xy, , ,in, deg, , ,N, , ,W, grid, , , ,N
Point12,xy, , ,in, deg, , ,N, , ,W, grid, , , ,N
Point13,xy, , ,in, deg, , ,N, , ,W, grid, , , ,N
Point14,xy, , ,in, deg, , ,N, , ,W, grid, , , ,N
Point15,xy, , ,in, deg, , ,N, , ,W, grid, , , ,N
Point16,xy, , ,in, deg, , ,N, , ,W, grid, , , ,N
Point17,xy, , ,in, deg, , ,N, , ,W, grid, , , ,N
Point18,xy, , ,in, deg, , ,N, , ,W, grid, , , ,N
Point19,xy, , ,in, deg, , ,N, , ,W, grid, , , ,N
Point20,xy, , ,in, deg, , ,N, , ,W, grid, , , ,N
Point21,xy, , ,in, deg, , ,N, , ,W, grid, , , ,N
Point22,xy, , ,in, deg, , ,N, , ,W, grid, , , ,N
Point23,xy, , ,in, deg, , ,N, , ,W, grid, , , ,N
Point24,xy, , ,in, deg, , ,N, , ,W, grid, , , ,N
Point25,xy, , ,in, deg, , ,N, , ,W, grid, , , ,N
Point26,xy, , ,in, deg, , ,N, , ,W, grid, , , ,N
Point27,xy, , ,in, deg, , ,N, , ,W, grid, , , ,N
Point28,xy, , ,in, deg, , ,N, , ,W, grid, , , ,N
Point29,xy, , ,in, deg, , ,N, , ,W, grid, , , ,N
Point30,xy, , ,in, deg, , ,N, , ,W, grid, , , ,N
Projection Setup, 0.000000000, 27.000000000, 1.000000000, 5500000.00, 0.00,,,,,
Map Feature = MF ; Map Comment = MC These follow if they exist
Track File = TF These follow if they exist
Moving Map Parameters = MM? These follow if they exist
MM0,Yes
MMPNUM,4
MMPXY,1,146,246
MMPXY,2,3927,246
MMPXY,3,3941,4633
MMPXY,4,125,4632
MMPLL,1,26.500121,55.333167
MMPLL,2,26.999836,55.333345
MMPLL,3,27.000032,55.000035
MMPLL,4,26.499881,54.999935
MM1B,8.384279
MOP,Map Open Position,0,0
IWH,Map Image Width/Height,4067,5068
