OziExplorer Map Data File Version 2.2
N-35-029 Швенченис
C:\strorry\Maps\Genshtab_1k\n-35-029.ozfx3
1 ,Map Code,
Pulkovo 1942 (1),WGS 84, 0.0000, 0.0000,WGS 84
Reserved 1
Reserved 2
Magnetic Variation,,,E
Map Projection,Transverse Mercator,PolyCal,No,AutoCalOnly,No,BSBUseWPX,No
Point01,xy, 144, 244,in, deg, 55, 20.0000,N, 26, 0.0000,E, grid, , , ,N
Point02,xy, 3925, 244,in, deg, 55, 20.0000,N, 26, 30.0000,E, grid, , , ,N
Point03,xy, 3941, 4644,in, deg, 55, 0.0000,N, 26, 30.0000,E, grid, , , ,N
Point04,xy, 132, 4642,in, deg, 55, 0.0000,N, 26, 0.0000,E, grid, , , ,N
Point05,xy, 2036, 2442,in, deg, 55, 10.0000,N, 26, 15.0000,E, grid, , , ,N
Point06,xy, 2035, 247,in, deg, 55, 20.0000,N, 26, 15.0000,E, grid, , , ,N
Point07,xy, 136, 2442,in, deg, 55, 10.0000,N, 26, 0.0000,E, grid, , , ,N
Point08,xy, 3935, 2444,in, deg, 55, 10.0000,N, 26, 30.0000,E, grid, , , ,N
Point09,xy, 2037, 4644,in, deg, 55, 0.0000,N, 26, 15.0000,E, grid, , , ,N
Point10,xy, , ,in, deg, , ,N, , ,W, grid, , , ,N
Point11,xy, , ,in, deg, , ,N, , ,W, grid, , , ,N
Point12,xy, , ,in, deg, , ,N, , ,W, grid, , , ,N
Point13,xy, , ,in, deg, , ,N, , ,W, grid, , , ,N
Point14,xy, , ,in, deg, , ,N, , ,W, grid, , , ,N
Point15,xy, , ,in, deg, , ,N, , ,W, grid, , , ,N
Point16,xy, , ,in, deg, , ,N, , ,W, grid, , , ,N
Point17,xy, , ,in, deg, , ,N, , ,W, grid, , , ,N
Point18,xy, , ,in, deg, , ,N, , ,W, grid, , , ,N
Point19,xy, , ,in, deg, , ,N, , ,W, grid, , , ,N
Point20,xy, , ,in, deg, , ,N, , ,W, grid, , , ,N
Point21,xy, , ,in, deg, , ,N, , ,W, grid, , , ,N
Point22,xy, , ,in, deg, , ,N, , ,W, grid, , , ,N
Point23,xy, , ,in, deg, , ,N, , ,W, grid, , , ,N
Point24,xy, , ,in, deg, , ,N, , ,W, grid, , , ,N
Point25,xy, , ,in, deg, , ,N, , ,W, grid, , , ,N
Point26,xy, , ,in, deg, , ,N, , ,W, grid, , , ,N
Point27,xy, , ,in, deg, , ,N, , ,W, grid, , , ,N
Point28,xy, , ,in, deg, , ,N, , ,W, grid, , , ,N
Point29,xy, , ,in, deg, , ,N, , ,W, grid, , , ,N
Point30,xy, , ,in, deg, , ,N, , ,W, grid, , , ,N
Projection Setup, 0.000000000, 27.000000000, 1.000000000, 5500000.00, 0.00,,,,,
Map Feature = MF ; Map Comment = MC These follow if they exist
Track File = TF These follow if they exist
Moving Map Parameters = MM? These follow if they exist
MM0,Yes
MMPNUM,4
MMPXY,1,144,244
MMPXY,2,3925,244
MMPXY,3,3941,4644
MMPXY,4,131,4642
MMPLL,1,25.999944,55.333232
MMPLL,2,26.500012,55.333339
MMPLL,3,26.499770,54.999873
MMPLL,4,26.000054,54.999929
MM1B,8.389984
MOP,Map Open Position,0,0
IWH,Map Image Width/Height,4068,5073
