OziExplorer Map Data File Version 2.2
N-35-024 Городок
C:\strorry\Maps\Genshtab_1k\n-35-024.ozfx3
1 ,Map Code,
Pulkovo 1942 (1),WGS 84, 0.0000, 0.0000,WGS 84
Reserved 1
Reserved 2
Magnetic Variation,,,E
Map Projection,Transverse Mercator,PolyCal,No,AutoCalOnly,No,BSBUseWPX,No
Point01,xy, 159, 268,in, deg, 55, 40.0000,N, 29, 30.0000,E, grid, , , ,N
Point02,xy, 3905, 265,in, deg, 55, 40.0000,N, 30, 0.0000,E, grid, , , ,N
Point03,xy, 3927, 4655,in, deg, 55, 20.0000,N, 30, 0.0000,E, grid, , , ,N
Point04,xy, 149, 4657,in, deg, 55, 20.0000,N, 29, 30.0000,E, grid, , , ,N
Point05,xy, 2036, 2465,in, deg, 55, 30.0000,N, 29, 45.0000,E, grid, , , ,N
Point06,xy, 2030, 274,in, deg, 55, 40.0000,N, 29, 45.0000,E, grid, , , ,N
Point07,xy, 154, 2463,in, deg, 55, 30.0000,N, 29, 30.0000,E, grid, , , ,N
Point08,xy, 3917, 2461,in, deg, 55, 30.0000,N, 30, 0.0000,E, grid, , , ,N
Point09,xy, 2040, 4658,in, deg, 55, 20.0000,N, 29, 45.0000,E, grid, , , ,N
Point10,xy, , ,in, deg, , ,N, , ,W, grid, , , ,N
Point11,xy, , ,in, deg, , ,N, , ,W, grid, , , ,N
Point12,xy, , ,in, deg, , ,N, , ,W, grid, , , ,N
Point13,xy, , ,in, deg, , ,N, , ,W, grid, , , ,N
Point14,xy, , ,in, deg, , ,N, , ,W, grid, , , ,N
Point15,xy, , ,in, deg, , ,N, , ,W, grid, , , ,N
Point16,xy, , ,in, deg, , ,N, , ,W, grid, , , ,N
Point17,xy, , ,in, deg, , ,N, , ,W, grid, , , ,N
Point18,xy, , ,in, deg, , ,N, , ,W, grid, , , ,N
Point19,xy, , ,in, deg, , ,N, , ,W, grid, , , ,N
Point20,xy, , ,in, deg, , ,N, , ,W, grid, , , ,N
Point21,xy, , ,in, deg, , ,N, , ,W, grid, , , ,N
Point22,xy, , ,in, deg, , ,N, , ,W, grid, , , ,N
Point23,xy, , ,in, deg, , ,N, , ,W, grid, , , ,N
Point24,xy, , ,in, deg, , ,N, , ,W, grid, , , ,N
Point25,xy, , ,in, deg, , ,N, , ,W, grid, , , ,N
Point26,xy, , ,in, deg, , ,N, , ,W, grid, , , ,N
Point27,xy, , ,in, deg, , ,N, , ,W, grid, , , ,N
Point28,xy, , ,in, deg, , ,N, , ,W, grid, , , ,N
Point29,xy, , ,in, deg, , ,N, , ,W, grid, , , ,N
Point30,xy, , ,in, deg, , ,N, , ,W, grid, , , ,N
Projection Setup, 0.000000000, 27.000000000, 1.000000000, 5500000.00, 0.00,,,,,
Map Feature = MF ; Map Comment = MC These follow if they exist
Track File = TF These follow if they exist
Moving Map Parameters = MM? These follow if they exist
MM0,Yes
MMPNUM,4
MMPXY,1,158,269
MMPXY,2,3905,266
MMPXY,3,3928,4656
MMPXY,4,149,4657
MMPLL,1,29.499956,55.666685
MMPLL,2,30.000033,55.666714
MMPLL,3,30.000000,55.333225
MMPLL,4,29.499899,55.333304
MM1B,8.391977
MOP,Map Open Position,0,0
IWH,Map Image Width/Height,4081,5102
