OziExplorer Map Data File Version 2.2
N-35-023 Оболь
C:\strorry\Maps\Genshtab_1k\n-35-023.ozfx3
1 ,Map Code,
Pulkovo 1942 (1),WGS 84, 0.0000, 0.0000,WGS 84
Reserved 1
Reserved 2
Magnetic Variation,,,E
Map Projection,Transverse Mercator,PolyCal,No,AutoCalOnly,No,BSBUseWPX,No
Point01,xy, 164, 261,in, deg, 55, 40.0000,N, 29, 0.0000,E, grid, , , ,N
Point02,xy, 3919, 258,in, deg, 55, 40.0000,N, 29, 30.0000,E, grid, , , ,N
Point03,xy, 3943, 4646,in, deg, 55, 20.0000,N, 29, 30.0000,E, grid, , , ,N
Point04,xy, 155, 4647,in, deg, 55, 20.0000,N, 29, 0.0000,E, grid, , , ,N
Point05,xy, 2045, 2459,in, deg, 55, 30.0000,N, 29, 15.0000,E, grid, , , ,N
Point06,xy, 2041, 265,in, deg, 55, 40.0000,N, 29, 15.0000,E, grid, , , ,N
Point07,xy, 158, 2456,in, deg, 55, 30.0000,N, 29, 0.0000,E, grid, , , ,N
Point08,xy, 3933, 2455,in, deg, 55, 30.0000,N, 29, 30.0000,E, grid, , , ,N
Point09,xy, 2050, 4652,in, deg, 55, 20.0000,N, 29, 15.0000,E, grid, , , ,N
Point10,xy, , ,in, deg, , ,N, , ,W, grid, , , ,N
Point11,xy, , ,in, deg, , ,N, , ,W, grid, , , ,N
Point12,xy, , ,in, deg, , ,N, , ,W, grid, , , ,N
Point13,xy, , ,in, deg, , ,N, , ,W, grid, , , ,N
Point14,xy, , ,in, deg, , ,N, , ,W, grid, , , ,N
Point15,xy, , ,in, deg, , ,N, , ,W, grid, , , ,N
Point16,xy, , ,in, deg, , ,N, , ,W, grid, , , ,N
Point17,xy, , ,in, deg, , ,N, , ,W, grid, , , ,N
Point18,xy, , ,in, deg, , ,N, , ,W, grid, , , ,N
Point19,xy, , ,in, deg, , ,N, , ,W, grid, , , ,N
Point20,xy, , ,in, deg, , ,N, , ,W, grid, , , ,N
Point21,xy, , ,in, deg, , ,N, , ,W, grid, , , ,N
Point22,xy, , ,in, deg, , ,N, , ,W, grid, , , ,N
Point23,xy, , ,in, deg, , ,N, , ,W, grid, , , ,N
Point24,xy, , ,in, deg, , ,N, , ,W, grid, , , ,N
Point25,xy, , ,in, deg, , ,N, , ,W, grid, , , ,N
Point26,xy, , ,in, deg, , ,N, , ,W, grid, , , ,N
Point27,xy, , ,in, deg, , ,N, , ,W, grid, , , ,N
Point28,xy, , ,in, deg, , ,N, , ,W, grid, , , ,N
Point29,xy, , ,in, deg, , ,N, , ,W, grid, , , ,N
Point30,xy, , ,in, deg, , ,N, , ,W, grid, , , ,N
Projection Setup, 0.000000000, 27.000000000, 1.000000000, 5500000.00, 0.00,,,,,
Map Feature = MF ; Map Comment = MC These follow if they exist
Track File = TF These follow if they exist
Moving Map Parameters = MM? These follow if they exist
MM0,Yes
MMPNUM,4
MMPXY,1,163,261
MMPXY,2,3919,258
MMPXY,3,3943,4646
MMPXY,4,154,4648
MMPLL,1,29.000005,55.666725
MMPLL,2,29.499910,55.666809
MMPLL,3,29.499918,55.333417
MMPLL,4,28.999865,55.333373
MM1B,8.370047
MOP,Map Open Position,0,0
IWH,Map Image Width/Height,4101,5086
