OziExplorer Map Data File Version 2.2
N-35-020 Миоры
C:\strorry\Maps\Genshtab_1k\n-35-020.ozfx3
1 ,Map Code,
Pulkovo 1942 (1),WGS 84, 0.0000, 0.0000,WGS 84
Reserved 1
Reserved 2
Magnetic Variation,,,E
Map Projection,Transverse Mercator,PolyCal,No,AutoCalOnly,No,BSBUseWPX,No
Point01,xy, 131, 241,in, deg, 55, 40.0000,N, 27, 30.0000,E, grid, , , ,N
Point02,xy, 3882, 236,in, deg, 55, 40.0000,N, 28, 0.0000,E, grid, , , ,N
Point03,xy, 3904, 4633,in, deg, 55, 20.0000,N, 28, 0.0000,E, grid, , , ,N
Point04,xy, 126, 4635,in, deg, 55, 20.0000,N, 27, 30.0000,E, grid, , , ,N
Point05,xy, 2012, 2437,in, deg, 55, 30.0000,N, 27, 45.0000,E, grid, , , ,N
Point06,xy, 2009, 240,in, deg, 55, 40.0000,N, 27, 45.0000,E, grid, , , ,N
Point07,xy, 128, 2435,in, deg, 55, 30.0000,N, 27, 30.0000,E, grid, , , ,N
Point08,xy, 3894, 2435,in, deg, 55, 30.0000,N, 28, 0.0000,E, grid, , , ,N
Point09,xy, 2014, 4636,in, deg, 55, 20.0000,N, 27, 45.0000,E, grid, , , ,N
Point10,xy, , ,in, deg, , ,N, , ,W, grid, , , ,N
Point11,xy, , ,in, deg, , ,N, , ,W, grid, , , ,N
Point12,xy, , ,in, deg, , ,N, , ,W, grid, , , ,N
Point13,xy, , ,in, deg, , ,N, , ,W, grid, , , ,N
Point14,xy, , ,in, deg, , ,N, , ,W, grid, , , ,N
Point15,xy, , ,in, deg, , ,N, , ,W, grid, , , ,N
Point16,xy, , ,in, deg, , ,N, , ,W, grid, , , ,N
Point17,xy, , ,in, deg, , ,N, , ,W, grid, , , ,N
Point18,xy, , ,in, deg, , ,N, , ,W, grid, , , ,N
Point19,xy, , ,in, deg, , ,N, , ,W, grid, , , ,N
Point20,xy, , ,in, deg, , ,N, , ,W, grid, , , ,N
Point21,xy, , ,in, deg, , ,N, , ,W, grid, , , ,N
Point22,xy, , ,in, deg, , ,N, , ,W, grid, , , ,N
Point23,xy, , ,in, deg, , ,N, , ,W, grid, , , ,N
Point24,xy, , ,in, deg, , ,N, , ,W, grid, , , ,N
Point25,xy, , ,in, deg, , ,N, , ,W, grid, , , ,N
Point26,xy, , ,in, deg, , ,N, , ,W, grid, , , ,N
Point27,xy, , ,in, deg, , ,N, , ,W, grid, , , ,N
Point28,xy, , ,in, deg, , ,N, , ,W, grid, , , ,N
Point29,xy, , ,in, deg, , ,N, , ,W, grid, , , ,N
Point30,xy, , ,in, deg, , ,N, , ,W, grid, , , ,N
Projection Setup, 0.000000000, 27.000000000, 1.000000000, 5500000.00, 0.00,,,,,
Map Feature = MF ; Map Comment = MC These follow if they exist
Track File = TF These follow if they exist
Moving Map Parameters = MM? These follow if they exist
MM0,Yes
MMPNUM,4
MMPXY,1,132,241
MMPXY,2,3882,236
MMPXY,3,3904,4633
MMPXY,4,126,4635
MMPLL,1,27.499881,55.666491
MMPLL,2,28.000002,55.666688
MMPLL,3,27.999838,55.333259
MMPLL,4,27.500221,55.333279
MM1B,8.389102
MOP,Map Open Position,0,0
IWH,Map Image Width/Height,4028,5074
