OziExplorer Map Data File Version 2.2
N-35-011 Дретунь
C:\strorry\Maps\Genshtab_1k\n-35-011.ozfx3
1 ,Map Code,
Pulkovo 1942 (1),WGS 84, 0.0000, 0.0000,WGS 84
Reserved 1
Reserved 2
Magnetic Variation,,,E
Map Projection,Transverse Mercator,PolyCal,No,AutoCalOnly,No,BSBUseWPX,No
Point01,xy, 174, 263,in, deg, 56, 0.0000,N, 29, 0.0000,E, grid, , , ,N
Point02,xy, 3895, 263,in, deg, 56, 0.0000,N, 29, 30.0000,E, grid, , , ,N
Point03,xy, 3908, 4653,in, deg, 55, 40.0000,N, 29, 30.0000,E, grid, , , ,N
Point04,xy, 158, 4654,in, deg, 55, 40.0000,N, 29, 0.0000,E, grid, , , ,N
Point05,xy, 2034, 2462,in, deg, 55, 50.0000,N, 29, 15.0000,E, grid, , , ,N
Point06,xy, 2035, 270,in, deg, 56, 0.0000,N, 29, 15.0000,E, grid, , , ,N
Point07,xy, 164, 2460,in, deg, 55, 50.0000,N, 29, 0.0000,E, grid, , , ,N
Point08,xy, 3903, 2458,in, deg, 55, 50.0000,N, 29, 30.0000,E, grid, , , ,N
Point09,xy, 2032, 4655,in, deg, 55, 40.0000,N, 29, 15.0000,E, grid, , , ,N
Point10,xy, , ,in, deg, , ,N, , ,W, grid, , , ,N
Point11,xy, , ,in, deg, , ,N, , ,W, grid, , , ,N
Point12,xy, , ,in, deg, , ,N, , ,W, grid, , , ,N
Point13,xy, , ,in, deg, , ,N, , ,W, grid, , , ,N
Point14,xy, , ,in, deg, , ,N, , ,W, grid, , , ,N
Point15,xy, , ,in, deg, , ,N, , ,W, grid, , , ,N
Point16,xy, , ,in, deg, , ,N, , ,W, grid, , , ,N
Point17,xy, , ,in, deg, , ,N, , ,W, grid, , , ,N
Point18,xy, , ,in, deg, , ,N, , ,W, grid, , , ,N
Point19,xy, , ,in, deg, , ,N, , ,W, grid, , , ,N
Point20,xy, , ,in, deg, , ,N, , ,W, grid, , , ,N
Point21,xy, , ,in, deg, , ,N, , ,W, grid, , , ,N
Point22,xy, , ,in, deg, , ,N, , ,W, grid, , , ,N
Point23,xy, , ,in, deg, , ,N, , ,W, grid, , , ,N
Point24,xy, , ,in, deg, , ,N, , ,W, grid, , , ,N
Point25,xy, , ,in, deg, , ,N, , ,W, grid, , , ,N
Point26,xy, , ,in, deg, , ,N, , ,W, grid, , , ,N
Point27,xy, , ,in, deg, , ,N, , ,W, grid, , , ,N
Point28,xy, , ,in, deg, , ,N, , ,W, grid, , , ,N
Point29,xy, , ,in, deg, , ,N, , ,W, grid, , , ,N
Point30,xy, , ,in, deg, , ,N, , ,W, grid, , , ,N
Projection Setup, 0.000000000, 27.000000000, 1.000000000, 5500000.00, 0.00,,,,,
Map Feature = MF ; Map Comment = MC These follow if they exist
Track File = TF These follow if they exist
Moving Map Parameters = MM? These follow if they exist
MM0,Yes
MMPNUM,4
MMPXY,1,173,263
MMPXY,2,3895,263
MMPXY,3,3908,4653
MMPXY,4,158,4654
MMPLL,1,28.999821,56.000147
MMPLL,2,29.500001,56.000054
MMPLL,3,29.499869,55.666637
MMPLL,4,29.000222,55.666619
MM1B,8.379065
MOP,Map Open Position,0,0
IWH,Map Image Width/Height,4063,5098
