OziExplorer Map Data File Version 2.2
N-35-010 Россоны
C:\strorry\Maps\Genshtab_1k\n-35-010.ozfx3
1 ,Map Code,
Pulkovo 1942 (1),WGS 84, 0.0000, 0.0000,WGS 84
Reserved 1
Reserved 2
Magnetic Variation,,,E
Map Projection,Transverse Mercator,PolyCal,No,AutoCalOnly,No,BSBUseWPX,No
Point01,xy, 160, 261,in, deg, 56, 0.0000,N, 28, 30.0000,E, grid, , , ,N
Point02,xy, 3879, 257,in, deg, 56, 0.0000,N, 29, 0.0000,E, grid, , , ,N
Point03,xy, 3902, 4647,in, deg, 55, 40.0000,N, 29, 0.0000,E, grid, , , ,N
Point04,xy, 155, 4654,in, deg, 55, 40.0000,N, 28, 30.0000,E, grid, , , ,N
Point05,xy, 2024, 2455,in, deg, 55, 50.0000,N, 28, 45.0000,E, grid, , , ,N
Point06,xy, 2020, 264,in, deg, 56, 0.0000,N, 28, 45.0000,E, grid, , , ,N
Point07,xy, 156, 2458,in, deg, 55, 50.0000,N, 28, 30.0000,E, grid, , , ,N
Point08,xy, 3891, 2451,in, deg, 55, 50.0000,N, 29, 0.0000,E, grid, , , ,N
Point09,xy, 2032, 4654,in, deg, 55, 40.0000,N, 28, 45.0000,E, grid, , , ,N
Point10,xy, , ,in, deg, , ,N, , ,W, grid, , , ,N
Point11,xy, , ,in, deg, , ,N, , ,W, grid, , , ,N
Point12,xy, , ,in, deg, , ,N, , ,W, grid, , , ,N
Point13,xy, , ,in, deg, , ,N, , ,W, grid, , , ,N
Point14,xy, , ,in, deg, , ,N, , ,W, grid, , , ,N
Point15,xy, , ,in, deg, , ,N, , ,W, grid, , , ,N
Point16,xy, , ,in, deg, , ,N, , ,W, grid, , , ,N
Point17,xy, , ,in, deg, , ,N, , ,W, grid, , , ,N
Point18,xy, , ,in, deg, , ,N, , ,W, grid, , , ,N
Point19,xy, , ,in, deg, , ,N, , ,W, grid, , , ,N
Point20,xy, , ,in, deg, , ,N, , ,W, grid, , , ,N
Point21,xy, , ,in, deg, , ,N, , ,W, grid, , , ,N
Point22,xy, , ,in, deg, , ,N, , ,W, grid, , , ,N
Point23,xy, , ,in, deg, , ,N, , ,W, grid, , , ,N
Point24,xy, , ,in, deg, , ,N, , ,W, grid, , , ,N
Point25,xy, , ,in, deg, , ,N, , ,W, grid, , , ,N
Point26,xy, , ,in, deg, , ,N, , ,W, grid, , , ,N
Point27,xy, , ,in, deg, , ,N, , ,W, grid, , , ,N
Point28,xy, , ,in, deg, , ,N, , ,W, grid, , , ,N
Point29,xy, , ,in, deg, , ,N, , ,W, grid, , , ,N
Point30,xy, , ,in, deg, , ,N, , ,W, grid, , , ,N
Projection Setup, 0.000000000, 27.000000000, 1.000000000, 5500000.00, 0.00,,,,,
Map Feature = MF ; Map Comment = MC These follow if they exist
Track File = TF These follow if they exist
Moving Map Parameters = MM? These follow if they exist
MM0,Yes
MMPNUM,4
MMPXY,1,160,261
MMPXY,2,3879,257
MMPXY,3,3902,4647
MMPXY,4,155,4654
MMPLL,1,28.499935,56.000085
MMPLL,2,29.000111,55.999921
MMPLL,3,28.999715,55.666676
MMPLL,4,28.500065,55.666588
MM1B,8.386982
MOP,Map Open Position,0,0
IWH,Map Image Width/Height,4057,5092
