OziExplorer Map Data File Version 2.2
N-35-009 Борковичи
C:\strorry\Maps\Genshtab_1k\n-35-009.ozfx3
1 ,Map Code,
Pulkovo 1942 (1),WGS 84, 0.0000, 0.0000,WGS 84
Reserved 1
Reserved 2
Magnetic Variation,,,E
Map Projection,Transverse Mercator,PolyCal,No,AutoCalOnly,No,BSBUseWPX,No
Point01,xy, 166, 259,in, deg, 56, 0.0000,N, 28, 0.0000,E, grid, , , ,N
Point02,xy, 3882, 258,in, deg, 56, 0.0000,N, 28, 30.0000,E, grid, , , ,N
Point03,xy, 3899, 4643,in, deg, 55, 40.0000,N, 28, 30.0000,E, grid, , , ,N
Point04,xy, 151, 4640,in, deg, 55, 40.0000,N, 28, 0.0000,E, grid, , , ,N
Point05,xy, 2024, 2454,in, deg, 55, 50.0000,N, 28, 15.0000,E, grid, , , ,N
Point06,xy, 2025, 264,in, deg, 56, 0.0000,N, 28, 15.0000,E, grid, , , ,N
Point07,xy, 158, 2446,in, deg, 55, 50.0000,N, 28, 0.0000,E, grid, , , ,N
Point08,xy, 3893, 2450,in, deg, 55, 50.0000,N, 28, 30.0000,E, grid, , , ,N
Point09,xy, 2025, 4640,in, deg, 55, 40.0000,N, 28, 15.0000,E, grid, , , ,N
Point10,xy, , ,in, deg, , ,N, , ,W, grid, , , ,N
Point11,xy, , ,in, deg, , ,N, , ,W, grid, , , ,N
Point12,xy, , ,in, deg, , ,N, , ,W, grid, , , ,N
Point13,xy, , ,in, deg, , ,N, , ,W, grid, , , ,N
Point14,xy, , ,in, deg, , ,N, , ,W, grid, , , ,N
Point15,xy, , ,in, deg, , ,N, , ,W, grid, , , ,N
Point16,xy, , ,in, deg, , ,N, , ,W, grid, , , ,N
Point17,xy, , ,in, deg, , ,N, , ,W, grid, , , ,N
Point18,xy, , ,in, deg, , ,N, , ,W, grid, , , ,N
Point19,xy, , ,in, deg, , ,N, , ,W, grid, , , ,N
Point20,xy, , ,in, deg, , ,N, , ,W, grid, , , ,N
Point21,xy, , ,in, deg, , ,N, , ,W, grid, , , ,N
Point22,xy, , ,in, deg, , ,N, , ,W, grid, , , ,N
Point23,xy, , ,in, deg, , ,N, , ,W, grid, , , ,N
Point24,xy, , ,in, deg, , ,N, , ,W, grid, , , ,N
Point25,xy, , ,in, deg, , ,N, , ,W, grid, , , ,N
Point26,xy, , ,in, deg, , ,N, , ,W, grid, , , ,N
Point27,xy, , ,in, deg, , ,N, , ,W, grid, , , ,N
Point28,xy, , ,in, deg, , ,N, , ,W, grid, , , ,N
Point29,xy, , ,in, deg, , ,N, , ,W, grid, , , ,N
Point30,xy, , ,in, deg, , ,N, , ,W, grid, , , ,N
Projection Setup, 0.000000000, 27.000000000, 1.000000000, 5500000.00, 0.00,,,,,
Map Feature = MF ; Map Comment = MC These follow if they exist
Track File = TF These follow if they exist
Moving Map Parameters = MM? These follow if they exist
MM0,Yes
MMPNUM,4
MMPXY,1,166,258
MMPXY,2,3882,259
MMPXY,3,3899,4643
MMPXY,4,151,4639
MMPLL,1,28.000010,56.000004
MMPLL,2,28.499872,56.000071
MMPLL,3,28.499920,55.666494
MMPLL,4,28.000050,55.666635
MM1B,8.388780
MOP,Map Open Position,0,0
IWH,Map Image Width/Height,4051,5085
