OziExplorer Map Data File Version 2.2
N-35-006 Даугавпилс
C:\strorry\Maps\Genshtab_1k\n-35-006.ozfx3
1 ,Map Code,
Pulkovo 1942 (1),WGS 84, 0.0000, 0.0000,WGS 84
Reserved 1
Reserved 2
Magnetic Variation,,,E
Map Projection,Transverse Mercator,PolyCal,No,AutoCalOnly,No,BSBUseWPX,No
Point01,xy, 141, 261,in, deg, 56, 0.0000,N, 26, 30.0000,E, grid, , , ,N
Point02,xy, 3853, 259,in, deg, 56, 0.0000,N, 27, 0.0000,E, grid, , , ,N
Point03,xy, 3871, 4645,in, deg, 55, 40.0000,N, 27, 0.0000,E, grid, , , ,N
Point04,xy, 130, 4645,in, deg, 55, 40.0000,N, 26, 30.0000,E, grid, , , ,N
Point05,xy, 1999, 2457,in, deg, 55, 50.0000,N, 26, 45.0000,E, grid, , , ,N
Point06,xy, 2001, 268,in, deg, 56, 0.0000,N, 26, 45.0000,E, grid, , , ,N
Point07,xy, 134, 2454,in, deg, 55, 50.0000,N, 26, 30.0000,E, grid, , , ,N
Point08,xy, 3864, 2452,in, deg, 55, 50.0000,N, 27, 0.0000,E, grid, , , ,N
Point09,xy, 1999, 4649,in, deg, 55, 40.0000,N, 26, 45.0000,E, grid, , , ,N
Point10,xy, , ,in, deg, , ,N, , ,W, grid, , , ,N
Point11,xy, , ,in, deg, , ,N, , ,W, grid, , , ,N
Point12,xy, , ,in, deg, , ,N, , ,W, grid, , , ,N
Point13,xy, , ,in, deg, , ,N, , ,W, grid, , , ,N
Point14,xy, , ,in, deg, , ,N, , ,W, grid, , , ,N
Point15,xy, , ,in, deg, , ,N, , ,W, grid, , , ,N
Point16,xy, , ,in, deg, , ,N, , ,W, grid, , , ,N
Point17,xy, , ,in, deg, , ,N, , ,W, grid, , , ,N
Point18,xy, , ,in, deg, , ,N, , ,W, grid, , , ,N
Point19,xy, , ,in, deg, , ,N, , ,W, grid, , , ,N
Point20,xy, , ,in, deg, , ,N, , ,W, grid, , , ,N
Point21,xy, , ,in, deg, , ,N, , ,W, grid, , , ,N
Point22,xy, , ,in, deg, , ,N, , ,W, grid, , , ,N
Point23,xy, , ,in, deg, , ,N, , ,W, grid, , , ,N
Point24,xy, , ,in, deg, , ,N, , ,W, grid, , , ,N
Point25,xy, , ,in, deg, , ,N, , ,W, grid, , , ,N
Point26,xy, , ,in, deg, , ,N, , ,W, grid, , , ,N
Point27,xy, , ,in, deg, , ,N, , ,W, grid, , , ,N
Point28,xy, , ,in, deg, , ,N, , ,W, grid, , , ,N
Point29,xy, , ,in, deg, , ,N, , ,W, grid, , , ,N
Point30,xy, , ,in, deg, , ,N, , ,W, grid, , , ,N
Projection Setup, 0.000000000, 27.000000000, 1.000000000, 5500000.00, 0.00,,,,,
Map Feature = MF ; Map Comment = MC These follow if they exist
Track File = TF These follow if they exist
Moving Map Parameters = MM? These follow if they exist
MM0,Yes
MMPNUM,4
MMPXY,1,142,262
MMPXY,2,3852,260
MMPXY,3,3872,4645
MMPXY,4,131,4645
MMPLL,1,26.499943,56.000010
MMPLL,2,26.999713,56.000065
MMPLL,3,27.000034,55.666626
MMPLL,4,26.500381,55.666731
MM1B,8.401569
MOP,Map Open Position,0,0
IWH,Map Image Width/Height,4048,5096
