OziExplorer Map Data File Version 2.2
N-34-131 Высокое
C:\strorry\Maps\Genshtab_1k\n-34-131.ozfx3
1 ,Map Code,
Pulkovo 1942 (1),WGS 84, 0.0000, 0.0000,WGS 84
Reserved 1
Reserved 2
Magnetic Variation,,,E
Map Projection,Transverse Mercator,PolyCal,No,AutoCalOnly,No,BSBUseWPX,No
Point01,xy, 160, 262,in, deg, 52, 40.0000,N, 23, 0.0000,E, grid, , , ,N
Point02,xy, 4197, 258,in, deg, 52, 40.0000,N, 23, 30.0000,E, grid, , , ,N
Point03,xy, 4214, 4650,in, deg, 52, 20.0000,N, 23, 30.0000,E, grid, , , ,N
Point04,xy, 158, 4652,in, deg, 52, 20.0000,N, 23, 0.0000,E, grid, , , ,N
Point05,xy, 2182, 2466,in, deg, 52, 30.0000,N, 23, 15.0000,E, grid, , , ,N
Point06,xy, 2178, 265,in, deg, 52, 40.0000,N, 23, 15.0000,E, grid, , , ,N
Point07,xy, 156, 2459,in, deg, 52, 30.0000,N, 23, 0.0000,E, grid, , , ,N
Point08,xy, 4208, 2455,in, deg, 52, 30.0000,N, 23, 30.0000,E, grid, , , ,N
Point09,xy, 2184, 4652,in, deg, 52, 20.0000,N, 23, 15.0000,E, grid, , , ,N
Point10,xy, , ,in, deg, , ,N, , ,W, grid, , , ,N
Point11,xy, , ,in, deg, , ,N, , ,W, grid, , , ,N
Point12,xy, , ,in, deg, , ,N, , ,W, grid, , , ,N
Point13,xy, , ,in, deg, , ,N, , ,W, grid, , , ,N
Point14,xy, , ,in, deg, , ,N, , ,W, grid, , , ,N
Point15,xy, , ,in, deg, , ,N, , ,W, grid, , , ,N
Point16,xy, , ,in, deg, , ,N, , ,W, grid, , , ,N
Point17,xy, , ,in, deg, , ,N, , ,W, grid, , , ,N
Point18,xy, , ,in, deg, , ,N, , ,W, grid, , , ,N
Point19,xy, , ,in, deg, , ,N, , ,W, grid, , , ,N
Point20,xy, , ,in, deg, , ,N, , ,W, grid, , , ,N
Point21,xy, , ,in, deg, , ,N, , ,W, grid, , , ,N
Point22,xy, , ,in, deg, , ,N, , ,W, grid, , , ,N
Point23,xy, , ,in, deg, , ,N, , ,W, grid, , , ,N
Point24,xy, , ,in, deg, , ,N, , ,W, grid, , , ,N
Point25,xy, , ,in, deg, , ,N, , ,W, grid, , , ,N
Point26,xy, , ,in, deg, , ,N, , ,W, grid, , , ,N
Point27,xy, , ,in, deg, , ,N, , ,W, grid, , , ,N
Point28,xy, , ,in, deg, , ,N, , ,W, grid, , , ,N
Point29,xy, , ,in, deg, , ,N, , ,W, grid, , , ,N
Point30,xy, , ,in, deg, , ,N, , ,W, grid, , , ,N
Projection Setup, 0.000000000, 21.000000000, 1.000000000, 4500000.00, 0.00,,,,,
Map Feature = MF ; Map Comment = MC These follow if they exist
Track File = TF These follow if they exist
Moving Map Parameters = MM? These follow if they exist
MM0,Yes
MMPNUM,4
MMPXY,1,160,262
MMPXY,2,4196,258
MMPXY,3,4214,4649
MMPXY,4,158,4653
MMPLL,1,22.999766,52.666777
MMPLL,2,23.500140,52.666808
MMPLL,3,23.499607,52.333395
MMPLL,4,23.000545,52.333324
MM1B,8.382751
MOP,Map Open Position,0,0
IWH,Map Image Width/Height,4446,5089
